BEGIN:VCALENDAR
VERSION:2.0
PRODID:-//Mentone Life Saving Club - ECPv6.15.20//NONSGML v1.0//EN
CALSCALE:GREGORIAN
METHOD:PUBLISH
X-ORIGINAL-URL:https://mentonelsc.com
X-WR-CALDESC:Events for Mentone Life Saving Club
REFRESH-INTERVAL;VALUE=DURATION:PT1H
X-Robots-Tag:noindex
X-PUBLISHED-TTL:PT1H
BEGIN:VTIMEZONE
TZID:Australia/Melbourne
BEGIN:STANDARD
TZOFFSETFROM:+1100
TZOFFSETTO:+1000
TZNAME:AEST
DTSTART:20240406T160000
END:STANDARD
BEGIN:DAYLIGHT
TZOFFSETFROM:+1000
TZOFFSETTO:+1100
TZNAME:AEDT
DTSTART:20241005T160000
END:DAYLIGHT
BEGIN:STANDARD
TZOFFSETFROM:+1100
TZOFFSETTO:+1000
TZNAME:AEST
DTSTART:20250405T160000
END:STANDARD
BEGIN:DAYLIGHT
TZOFFSETFROM:+1000
TZOFFSETTO:+1100
TZNAME:AEDT
DTSTART:20251004T160000
END:DAYLIGHT
BEGIN:STANDARD
TZOFFSETFROM:+1100
TZOFFSETTO:+1000
TZNAME:AEST
DTSTART:20260404T160000
END:STANDARD
BEGIN:DAYLIGHT
TZOFFSETFROM:+1000
TZOFFSETTO:+1100
TZNAME:AEDT
DTSTART:20261003T160000
END:DAYLIGHT
END:VTIMEZONE
BEGIN:VEVENT
DTSTART;TZID=Australia/Melbourne:20250620T170000
DTEND;TZID=Australia/Melbourne:20250620T210000
DTSTAMP:20260425T080836
CREATED:20250515T073842Z
LAST-MODIFIED:20250530T000431Z
UID:12200-1750438800-1750453200@mentonelsc.com
SUMMARY:Friday Dinner and Live Music on the Bay 5pm-11:30pm
DESCRIPTION:LIVE MUSIC WITH THE TWO DOGS BAND\nClick for Live Music on the Bay information and booking link. \nDINNER BOOKING\nClick to book for dinner.
URL:https://mentonelsc.com/event/friday-dinner-5-9pm-3/
ATTACH;FMTTYPE=image/jpeg:https://mentonelsc.com/wp-content/uploads/2025/05/The-two-dogs.jpg
END:VEVENT
BEGIN:VEVENT
DTSTART;TZID=Australia/Melbourne:20250620T173000
DTEND;TZID=Australia/Melbourne:20250620T190000
DTSTAMP:20260425T080836
CREATED:20250530T003909Z
LAST-MODIFIED:20250606T063258Z
UID:12340-1750440600-1750446000@mentonelsc.com
SUMMARY:Viking-Themed Winter Solstice Dip
DESCRIPTION:Embrace the spirit of the solstice on Friday 20 June 2025 with a Viking-themed icy plunge to mark the longest night of the year. \nFree entry for members ($5 for non-members) and includes fun pre-dip activities\, a warming mulled wine or hot tea and access to showers and change rooms. \nDinner bookings are essential – so gather your clan\, don your furs\, helmets\, and best Viking attire and prepare for a night of fearless fun and frosty celebrations. \nNB: Participants must purchase tickets separately to attend the live music performance by The Two Dogs Band \nSOLSTICE DIP BOOKINGS (please RSVP even though entry is free for Mentone LSC Members so we know numbers) \nDINNER BOOKINGS\nClick to book for dinner. \nLIVE MUSIC BOOKINGS (for Members attending the Solstice Dip)\nClick to book for the live music
URL:https://mentonelsc.com/event/viking-themed-winter-solstice-dip/
ATTACH;FMTTYPE=image/jpeg:https://mentonelsc.com/wp-content/uploads/2025/05/Winter-Solstice-Sun-May-2025-e1748566944465.jpg
END:VEVENT
END:VCALENDAR