BEGIN:VCALENDAR
VERSION:2.0
PRODID:-//Mentone Life Saving Club - ECPv6.15.20//NONSGML v1.0//EN
CALSCALE:GREGORIAN
METHOD:PUBLISH
X-ORIGINAL-URL:https://mentonelsc.com
X-WR-CALDESC:Events for Mentone Life Saving Club
REFRESH-INTERVAL;VALUE=DURATION:PT1H
X-Robots-Tag:noindex
X-PUBLISHED-TTL:PT1H
BEGIN:VTIMEZONE
TZID:Australia/Melbourne
BEGIN:STANDARD
TZOFFSETFROM:+1100
TZOFFSETTO:+1000
TZNAME:AEST
DTSTART:20240406T160000
END:STANDARD
BEGIN:DAYLIGHT
TZOFFSETFROM:+1000
TZOFFSETTO:+1100
TZNAME:AEDT
DTSTART:20241005T160000
END:DAYLIGHT
BEGIN:STANDARD
TZOFFSETFROM:+1100
TZOFFSETTO:+1000
TZNAME:AEST
DTSTART:20250405T160000
END:STANDARD
BEGIN:DAYLIGHT
TZOFFSETFROM:+1000
TZOFFSETTO:+1100
TZNAME:AEDT
DTSTART:20251004T160000
END:DAYLIGHT
BEGIN:STANDARD
TZOFFSETFROM:+1100
TZOFFSETTO:+1000
TZNAME:AEST
DTSTART:20260404T160000
END:STANDARD
BEGIN:DAYLIGHT
TZOFFSETFROM:+1000
TZOFFSETTO:+1100
TZNAME:AEDT
DTSTART:20261003T160000
END:DAYLIGHT
END:VTIMEZONE
BEGIN:VEVENT
DTSTART;TZID=Australia/Melbourne:20250824T120000
DTEND;TZID=Australia/Melbourne:20250824T170000
DTSTAMP:20260424T201932
CREATED:20250715T042351Z
LAST-MODIFIED:20250821T022013Z
UID:12676-1756036800-1756054800@mentonelsc.com
SUMMARY:Italian Fresh Pasta Feast
DESCRIPTION:Join us on Sunday 24th August from 12pm at the Mentone Life Saving Club for an unforgettable Italian Fresh Pasta Feast. Indulge in handmade pasta\, sip on Italian wines and spritzes\, and enjoy live music looking at the beautiful winter views of the bay. Bring your friends\, your appetite\, and your love for Italian food — we’ll take care of the rest! \nAdults Three Course Menu – $50 per head \nAntipasto to share – Cured meats\, burrata\, marinated olives\, pickles\, fresh baked bread \nSelection of Handmade Pasta Dishes Served to Share:\nOrecchiette pasta tossed with roasted chicken\, creamy pesto\, blistered cherry tomatoes\, and wild rocket\nRoasted pumpkin ravioli with burnt sage butter\, spinach\, almonds\, and pepitas\nSlow-cooked red wine lamb ragù tossed with potato gnocchi\, topped with gremolata \nDessert\nTiramisu and Cannoli \nChild Menu – $15 per head (choice of meal on the day & includes a bowl of ice cream) \nGnocchi with tomato and parmesan\nLinguini with butter and parmesan \n  \nBookings must be made and paid for via this Trybooking by Wednesday 20th August @ 11pm
URL:https://mentonelsc.com/event/italian-fresh-pasta-feast/
ATTACH;FMTTYPE=image/png:https://mentonelsc.com/wp-content/uploads/2025/07/Screenshot-2025-07-23-135257.png
END:VEVENT
BEGIN:VEVENT
DTSTART;TZID=Australia/Melbourne:20250824T120000
DTEND;TZID=Australia/Melbourne:20250824T170000
DTSTAMP:20260424T201932
CREATED:20250821T021414Z
LAST-MODIFIED:20250821T021648Z
UID:12905-1756036800-1756054800@mentonelsc.com
SUMMARY:Live Music featuring Stella playing traditional Italian music
DESCRIPTION:Stella – a trio of young Italians from Melbourne playing traditional Italian music. \n$10 – pre purchased tickets – book tickets by clicking here\n$15 – tickets purchased at the door \nTables will be available\, however\, will be first in best dressed\, standing room available \nBar and Kitchen open from 12pm \nMusic starts from 12pm
URL:https://mentonelsc.com/event/live-music-featuring-stella-playing-traditional-italian-music/
ATTACH;FMTTYPE=image/png:https://mentonelsc.com/wp-content/uploads/2025/08/Stella-e1755742594628.png
END:VEVENT
END:VCALENDAR