BEGIN:VCALENDAR
VERSION:2.0
PRODID:-//Mentone Life Saving Club - ECPv6.15.20//NONSGML v1.0//EN
CALSCALE:GREGORIAN
METHOD:PUBLISH
X-ORIGINAL-URL:https://mentonelsc.com
X-WR-CALDESC:Events for Mentone Life Saving Club
REFRESH-INTERVAL;VALUE=DURATION:PT1H
X-Robots-Tag:noindex
X-PUBLISHED-TTL:PT1H
BEGIN:VTIMEZONE
TZID:Australia/Melbourne
BEGIN:STANDARD
TZOFFSETFROM:+1100
TZOFFSETTO:+1000
TZNAME:AEST
DTSTART:20240406T160000
END:STANDARD
BEGIN:DAYLIGHT
TZOFFSETFROM:+1000
TZOFFSETTO:+1100
TZNAME:AEDT
DTSTART:20241005T160000
END:DAYLIGHT
BEGIN:STANDARD
TZOFFSETFROM:+1100
TZOFFSETTO:+1000
TZNAME:AEST
DTSTART:20250405T160000
END:STANDARD
BEGIN:DAYLIGHT
TZOFFSETFROM:+1000
TZOFFSETTO:+1100
TZNAME:AEDT
DTSTART:20251004T160000
END:DAYLIGHT
BEGIN:STANDARD
TZOFFSETFROM:+1100
TZOFFSETTO:+1000
TZNAME:AEST
DTSTART:20260404T160000
END:STANDARD
BEGIN:DAYLIGHT
TZOFFSETFROM:+1000
TZOFFSETTO:+1100
TZNAME:AEDT
DTSTART:20261003T160000
END:DAYLIGHT
END:VTIMEZONE
BEGIN:VEVENT
DTSTART;TZID=Australia/Melbourne:20250907T120000
DTEND;TZID=Australia/Melbourne:20250907T160000
DTSTAMP:20260424T202037
CREATED:20250715T042505Z
LAST-MODIFIED:20250827T230752Z
UID:12679-1757246400-1757260800@mentonelsc.com
SUMMARY:American Barbecue Father's Day Lunch
DESCRIPTION:Father’s Day at Mentone Life Saving Club!\n\n\nCome and celebrate the special men in your life with a family-friendly American BBQ Lunch at Mentone Life Saving Club on Sunday September 7 from 12pm.\n\n\nChoose from pre-ordered platters or an a la carte menu created by BIG little Catering Co.\n\n\nPre-ordering a platter is highly recommended as platters will be limited and not all platter items will be available on the a la carte menu.\n\n\n\nPLATTER (Serves 4) – $99\nThe platter features a selection from the following:\n· Pork Ribs\n· Chicken Wings\n· Smoked Brisket\n· Pulled Pork\n· Mac and Cheese\n· Corn\n· Coleslaw\n· Potato Salad\n· Fries\n· Various sauces / condiments\n\n\nA la carte options include:\n· Various Burgers\n· Falafel\n· Limited selection of Platter Options\n· Kids Menu\n\n\nThere will also be live music and our incredible view of the bay!\n\n\nBook at https://www.trybooking.com/DEJAP (closes 11pm on September 3).
URL:https://mentonelsc.com/event/fathers-day-lunch/
ATTACH;FMTTYPE=image/jpeg:https://mentonelsc.com/wp-content/uploads/2025/07/539996197_1316455816935976_992415287638229343_n.jpg
END:VEVENT
END:VCALENDAR