BEGIN:VCALENDAR
VERSION:2.0
PRODID:-//Mentone Life Saving Club - ECPv6.15.20//NONSGML v1.0//EN
CALSCALE:GREGORIAN
METHOD:PUBLISH
X-WR-CALNAME:Mentone Life Saving Club
X-ORIGINAL-URL:https://mentonelsc.com
X-WR-CALDESC:Events for Mentone Life Saving Club
REFRESH-INTERVAL;VALUE=DURATION:PT1H
X-Robots-Tag:noindex
X-PUBLISHED-TTL:PT1H
BEGIN:VTIMEZONE
TZID:Australia/Melbourne
BEGIN:STANDARD
TZOFFSETFROM:+1100
TZOFFSETTO:+1000
TZNAME:AEST
DTSTART:20250405T160000
END:STANDARD
BEGIN:DAYLIGHT
TZOFFSETFROM:+1000
TZOFFSETTO:+1100
TZNAME:AEDT
DTSTART:20251004T160000
END:DAYLIGHT
BEGIN:STANDARD
TZOFFSETFROM:+1100
TZOFFSETTO:+1000
TZNAME:AEST
DTSTART:20260404T160000
END:STANDARD
BEGIN:DAYLIGHT
TZOFFSETFROM:+1000
TZOFFSETTO:+1100
TZNAME:AEDT
DTSTART:20261003T160000
END:DAYLIGHT
BEGIN:STANDARD
TZOFFSETFROM:+1100
TZOFFSETTO:+1000
TZNAME:AEST
DTSTART:20270403T160000
END:STANDARD
BEGIN:DAYLIGHT
TZOFFSETFROM:+1000
TZOFFSETTO:+1100
TZNAME:AEDT
DTSTART:20271002T160000
END:DAYLIGHT
END:VTIMEZONE
BEGIN:VEVENT
DTSTART;TZID=Australia/Melbourne:20260208T113000
DTEND;TZID=Australia/Melbourne:20260208T170000
DTSTAMP:20260424T102910
CREATED:20260201T211821Z
LAST-MODIFIED:20260203T023121Z
UID:14208-1770550200-1770570000@mentonelsc.com
SUMMARY:Sunday Lunch / Tapas and Live Music 11:30am-5pm
DESCRIPTION:No Breakfast service as Beach Road closed for the 2XU triathlon event between 0600-1100.\nDownstairs Kiosk open from 9am.\nNo bookings – Walk ins only Tapas and Live Music from the Gas Duo 2-5pm
URL:https://mentonelsc.com/event/sunday-breakfast-lunch-tapas-and-live-music-8am-5pm-2/
ATTACH;FMTTYPE=image/png:https://mentonelsc.com/wp-content/uploads/2025/10/February-Summer-Sundays-Combined-for-Print-Poster-A2.png
END:VEVENT
END:VCALENDAR