BEGIN:VCALENDAR
VERSION:2.0
PRODID:-//Mentone Life Saving Club - ECPv6.15.20//NONSGML v1.0//EN
CALSCALE:GREGORIAN
METHOD:PUBLISH
X-ORIGINAL-URL:https://mentonelsc.com
X-WR-CALDESC:Events for Mentone Life Saving Club
REFRESH-INTERVAL;VALUE=DURATION:PT1H
X-Robots-Tag:noindex
X-PUBLISHED-TTL:PT1H
BEGIN:VTIMEZONE
TZID:Australia/Melbourne
BEGIN:STANDARD
TZOFFSETFROM:+1100
TZOFFSETTO:+1000
TZNAME:AEST
DTSTART:20250405T160000
END:STANDARD
BEGIN:DAYLIGHT
TZOFFSETFROM:+1000
TZOFFSETTO:+1100
TZNAME:AEDT
DTSTART:20251004T160000
END:DAYLIGHT
BEGIN:STANDARD
TZOFFSETFROM:+1100
TZOFFSETTO:+1000
TZNAME:AEST
DTSTART:20260404T160000
END:STANDARD
BEGIN:DAYLIGHT
TZOFFSETFROM:+1000
TZOFFSETTO:+1100
TZNAME:AEDT
DTSTART:20261003T160000
END:DAYLIGHT
BEGIN:STANDARD
TZOFFSETFROM:+1100
TZOFFSETTO:+1000
TZNAME:AEST
DTSTART:20270403T160000
END:STANDARD
BEGIN:DAYLIGHT
TZOFFSETFROM:+1000
TZOFFSETTO:+1100
TZNAME:AEDT
DTSTART:20271002T160000
END:DAYLIGHT
END:VTIMEZONE
BEGIN:VEVENT
DTSTART;TZID=Australia/Melbourne:20260322T080000
DTEND;TZID=Australia/Melbourne:20260322T110000
DTSTAMP:20260424T072240
CREATED:20260222T221154Z
LAST-MODIFIED:20260316T030655Z
UID:14393-1774166400-1774177200@mentonelsc.com
SUMMARY:Sunday Breakfast Only 9am - 11am
DESCRIPTION:Breakfast only – function space booked from 11am \nNo bookings – walk ins only
URL:https://mentonelsc.com/event/sunday-breakfast-only-8am-11am-2/
ATTACH;FMTTYPE=image/jpeg:https://mentonelsc.com/wp-content/uploads/2025/09/IMG_6797-scaled-e1758490148533.jpeg
END:VEVENT
END:VCALENDAR