BEGIN:VCALENDAR
VERSION:2.0
PRODID:-//Mentone Life Saving Club - ECPv6.15.20//NONSGML v1.0//EN
CALSCALE:GREGORIAN
METHOD:PUBLISH
X-WR-CALNAME:Mentone Life Saving Club
X-ORIGINAL-URL:https://mentonelsc.com
X-WR-CALDESC:Events for Mentone Life Saving Club
REFRESH-INTERVAL;VALUE=DURATION:PT1H
X-Robots-Tag:noindex
X-PUBLISHED-TTL:PT1H
BEGIN:VTIMEZONE
TZID:Australia/Melbourne
BEGIN:STANDARD
TZOFFSETFROM:+1100
TZOFFSETTO:+1000
TZNAME:AEST
DTSTART:20250405T160000
END:STANDARD
BEGIN:DAYLIGHT
TZOFFSETFROM:+1000
TZOFFSETTO:+1100
TZNAME:AEDT
DTSTART:20251004T160000
END:DAYLIGHT
BEGIN:STANDARD
TZOFFSETFROM:+1100
TZOFFSETTO:+1000
TZNAME:AEST
DTSTART:20260404T160000
END:STANDARD
BEGIN:DAYLIGHT
TZOFFSETFROM:+1000
TZOFFSETTO:+1100
TZNAME:AEDT
DTSTART:20261003T160000
END:DAYLIGHT
BEGIN:STANDARD
TZOFFSETFROM:+1100
TZOFFSETTO:+1000
TZNAME:AEST
DTSTART:20270403T160000
END:STANDARD
BEGIN:DAYLIGHT
TZOFFSETFROM:+1000
TZOFFSETTO:+1100
TZNAME:AEDT
DTSTART:20271002T160000
END:DAYLIGHT
END:VTIMEZONE
BEGIN:VEVENT
DTSTART;TZID=Australia/Melbourne:20260424T170000
DTEND;TZID=Australia/Melbourne:20260424T210000
DTSTAMP:20260423T220132
CREATED:20260222T224702Z
LAST-MODIFIED:20260302T214918Z
UID:14419-1777050000-1777064400@mentonelsc.com
SUMMARY:Dinner and Drinks 5pm – 9pm
DESCRIPTION:Happy Hour 5-6pm
URL:https://mentonelsc.com/event/dinner-and-drinks-6pm-9pm-8/
ATTACH;FMTTYPE=image/jpeg:https://mentonelsc.com/wp-content/uploads/2025/09/Chicken-Schnitzel-scaled-e1758488551452.jpeg
END:VEVENT
BEGIN:VEVENT
DTSTART;TZID=Australia/Melbourne:20260424T170000
DTEND;TZID=Australia/Melbourne:20260424T230000
DTSTAMP:20260423T220132
CREATED:20260324T211842Z
LAST-MODIFIED:20260330T011631Z
UID:14666-1777050000-1777071600@mentonelsc.com
SUMMARY:The Two Dogs Band
DESCRIPTION:Mentone LSC Bands by the Bay presents The Two Dogs Band\nClick to find out more and buy tickets to The Two Dogs Band\n\n\nABOUT\nThe Two Dogs Band bring a mix of vintage rock\, blues and classic favourites – guaranteed to get the dancefloor going from 8:15pm through to 11:00pm. \nMake a night of it:\n🍔 Food available from 5:00pm\n🍻 Happy Hour from 5:00pm – 6:00pm \n👉 Book a table for dinner before the show:\nhttps://mentonelsc.com/kitchen-and-bar-events/ \n🎟 Band Tickets\n$10 per person\nStrictly 18+ event \nDATE \n\n\nFriday 24 April 2026 8:15 PM – 11 PM \n\nClick to find out more about The Two Dogs Band
URL:https://mentonelsc.com/event/two-dogs-band/
CATEGORIES:Bands by the Bay
ATTACH;FMTTYPE=image/png:https://mentonelsc.com/wp-content/uploads/2026/03/the-two-dogs-wide.png
END:VEVENT
BEGIN:VEVENT
DTSTART;TZID=Australia/Melbourne:20260425T120000
DTEND;TZID=Australia/Melbourne:20260425T170000
DTSTAMP:20260423T220132
CREATED:20260419T203946Z
LAST-MODIFIED:20260419T203946Z
UID:14976-1777118400-1777136400@mentonelsc.com
SUMMARY:ANZAC Day Lunch 12pm
DESCRIPTION:This ANZAC Day\, Saturday 25th April\, we pause to reflect\, remember and honour those who have served.\n\n\nWe will be open for lunch from 12pm at Mentone Life Saving Club.\n\n\nJoin us for a relaxed meal by the bay – a chance to come together with family\, friends and the community.\n\n\nAll are welcome.\n\n\nLest We Forget.
URL:https://mentonelsc.com/event/anzac-day-lunch-12pm/
ATTACH;FMTTYPE=image/png:https://mentonelsc.com/wp-content/uploads/2026/04/Anzac-Day-Lunch3.png
END:VEVENT
BEGIN:VEVENT
DTSTART;TZID=Australia/Melbourne:20260501T170000
DTEND;TZID=Australia/Melbourne:20260501T210000
DTSTAMP:20260423T220132
CREATED:20260222T225230Z
LAST-MODIFIED:20260302T215029Z
UID:14421-1777654800-1777669200@mentonelsc.com
SUMMARY:Dinner and Drinks 5pm – 9pm
DESCRIPTION:Happy Hour 5-6pm
URL:https://mentonelsc.com/event/dinner-and-drinks-6pm-9pm-9/
ATTACH;FMTTYPE=image/jpeg:https://mentonelsc.com/wp-content/uploads/2025/10/IMG_6774-scaled-e1761768410583.jpeg
END:VEVENT
BEGIN:VEVENT
DTSTART;TZID=Australia/Melbourne:20260501T190000
DTEND;TZID=Australia/Melbourne:20260501T210000
DTSTAMP:20260423T220132
CREATED:20260423T035748Z
LAST-MODIFIED:20260423T035748Z
UID:15036-1777662000-1777669200@mentonelsc.com
SUMMARY:Open Mic Night
DESCRIPTION:🎤 Open Mic Night at the Club\nThere’s something special about live\, local talent – and we’re excited to bring that energy to the club with our very own Open Mic Night. \nWhether you’re a seasoned performer or just keen to give it a go\, this is your chance to step up\, have some fun\, and be part of a great night out. \nNot performing? Come along anyway. Grab a drink\, enjoy dinner with friends\, and settle in for a relaxed evening of live entertainment right here at the club. \nIt’s the perfect way to kick back\, support local talent\, and enjoy a different kind of Friday night. \n🎶 What to expect: \n\nA welcoming\, supportive atmosphere\nA mix of performances\nGreat food and drinks available from 5pm\nOpen Mic kicking off from 7pm\n\nWhether you’re performing or just soaking up the vibe\, we’d love to see you there. \n👉 Thinking of performing? Just put your name down on the night and take the stage\, or contact Susan Williams via community@mentonelsc.com to secure your spot!
URL:https://mentonelsc.com/event/open-mic-night/
ATTACH;FMTTYPE=image/png:https://mentonelsc.com/wp-content/uploads/2026/04/Open-Mic-NIght4.png
END:VEVENT
BEGIN:VEVENT
DTSTART;TZID=Australia/Melbourne:20260508T170000
DTEND;TZID=Australia/Melbourne:20260508T210000
DTSTAMP:20260423T220132
CREATED:20260223T221106Z
LAST-MODIFIED:20260302T215108Z
UID:14424-1778259600-1778274000@mentonelsc.com
SUMMARY:Dinner and Drinks 5pm – 9pm
DESCRIPTION:Happy Hour 5-6pm
URL:https://mentonelsc.com/event/dinner-and-drinks-6pm-9pm-10/
ATTACH;FMTTYPE=image/jpeg:https://mentonelsc.com/wp-content/uploads/2025/10/IMG_6775-scaled-e1763685894597.jpeg
END:VEVENT
BEGIN:VEVENT
DTSTART;TZID=Australia/Melbourne:20260508T170000
DTEND;TZID=Australia/Melbourne:20260508T230000
DTSTAMP:20260423T220132
CREATED:20260329T234502Z
LAST-MODIFIED:20260330T011550Z
UID:14779-1778259600-1778281200@mentonelsc.com
SUMMARY:The Party Animals
DESCRIPTION:Mentone LSC Bands by the Bay presents The Party Animals\nClick to find out more and buy tickets to The Party Animals\n\n\nABOUT\nThe Party Animals bring a high-energy tribute to 70’s and 80’s Aussie and classic rock\, packed with iconic hits you know and love. \nExpect classics from the likes of INXS\, Dragon\, Men at Work\, Aussie Crawl\, The Rolling Stones\, Creedence\, The Angels\, Billy Idol\, Santana and more – all guaranteed to get the dancefloor going. \nMake a night of it:\n🍔 Food available from 5:00pm\n🍻 Happy Hour from 5:00pm – 6:00pm \n👉 Book a table for dinner before the show:\nhttps://mentonelsc.com/kitchen-and-bar-events/ \n🎟 Band Tickets\n$10 per person\nStrictly 18+ event \nDATE \n\n\nFriday 8 May 2026 8:15 PM – 11 PM \n\nClick to find out more about The Party Animals
URL:https://mentonelsc.com/event/the-party-animals/
CATEGORIES:Bands by the Bay
ATTACH;FMTTYPE=image/png:https://mentonelsc.com/wp-content/uploads/2026/03/party-animals-wide-1-1.png
END:VEVENT
BEGIN:VEVENT
DTSTART;TZID=Australia/Melbourne:20260510T090000
DTEND;TZID=Australia/Melbourne:20260510T150000
DTSTAMP:20260423T220132
CREATED:20260419T075757Z
LAST-MODIFIED:20260419T075928Z
UID:14970-1778403600-1778425200@mentonelsc.com
SUMMARY:Mother's Day Breakfast and Lunch
DESCRIPTION:Celebrate Mother’s Day at Mentone LSC \n\n\n\n\n\nBuffet Breakfast 9am-11am – Adult $40 Child $18 – click to book breakfast\n\n\nShared Family Roast 12pm-3pm – Adult $45 Child $18 – click to book lunch
URL:https://mentonelsc.com/event/mothers-day-breakfast-and-lunch/
ATTACH;FMTTYPE=image/png:https://mentonelsc.com/wp-content/uploads/2025/10/2026-Mothers-Day-A3-Poster.png
END:VEVENT
BEGIN:VEVENT
DTSTART;TZID=Australia/Melbourne:20260510T090000
DTEND;TZID=Australia/Melbourne:20260510T170000
DTSTAMP:20260423T220132
CREATED:20260419T204455Z
LAST-MODIFIED:20260419T204513Z
UID:14979-1778403600-1778432400@mentonelsc.com
SUMMARY:Mother’s Day 10 May - Breakfast 9am and Lunch 12pm
DESCRIPTION:Celebrate Mother’s Day at Mentone Life Saving Club\nJoin us this Mother’s Day\, Sunday 10th May\, for a relaxed buffet breakfast or long lunch by the bay. \nBuffet Breakfast – From 9am\nEnjoy a casual buffet breakfast with a mix of hot favourites\, eggs your way\, mini bagel eggs benedict\, plus fresh fruit\, pastries\, cereals and juices. \nAdult $40 | Child $18 \nBookings: https://www.trybooking.com/DLKEJ \nShared Roast Lunch – From 12pm\nGather around the table for a family-style shared roast. Start with an antipasto platter\, followed by slow-cooked meats\, seasonal sides and fresh salads\, all served to share. A vegetarian option is available\, and Mum will receive a complimentary drink on arrival. \nAdult $45 | Child $18 \nBookings: https://www.trybooking.com/DLKEM \nBookings Essential\nBookings close Thursday 7th May at 11pm.
URL:https://mentonelsc.com/event/mothers-day-10-may-breakfast-from-9am-and-lunch-from-12pm/
ATTACH;FMTTYPE=image/png:https://mentonelsc.com/wp-content/uploads/2025/10/2026-Mothers-Day-A3-Poster.png
END:VEVENT
BEGIN:VEVENT
DTSTART;TZID=Australia/Melbourne:20260515T170000
DTEND;TZID=Australia/Melbourne:20260515T210000
DTSTAMP:20260423T220132
CREATED:20260223T221308Z
LAST-MODIFIED:20260302T215138Z
UID:14426-1778864400-1778878800@mentonelsc.com
SUMMARY:Dinner and Drinks 5pm – 9pm
DESCRIPTION:Happy Hour 5-6pm
URL:https://mentonelsc.com/event/dinner-and-drinks-6pm-9pm-11/
ATTACH;FMTTYPE=image/jpeg:https://mentonelsc.com/wp-content/uploads/2025/10/Deck-meal-scaled-e1761768024634.jpg
END:VEVENT
BEGIN:VEVENT
DTSTART;TZID=Australia/Melbourne:20260522T170000
DTEND;TZID=Australia/Melbourne:20260522T210000
DTSTAMP:20260423T220132
CREATED:20260223T221426Z
LAST-MODIFIED:20260302T220217Z
UID:14428-1779469200-1779483600@mentonelsc.com
SUMMARY:Dinner and Drinks 5pm – 9pm
DESCRIPTION:Happy Hour 5-6pm
URL:https://mentonelsc.com/event/dinner-and-drinks-6pm-9pm-12/
ATTACH;FMTTYPE=image/jpeg:https://mentonelsc.com/wp-content/uploads/2025/10/IMG_0048-rotated-e1761766962481.jpg
END:VEVENT
BEGIN:VEVENT
DTSTART;TZID=Australia/Melbourne:20260522T170000
DTEND;TZID=Australia/Melbourne:20260522T230000
DTSTAMP:20260423T220132
CREATED:20260329T235736Z
LAST-MODIFIED:20260330T011612Z
UID:14786-1779469200-1779490800@mentonelsc.com
SUMMARY:Side Project
DESCRIPTION:Mentone LSC Bands by the Bay presents Side Project\nClick to find out more and buy tickets to Side Project\n\n\nABOUT\nSide Project are a Melbourne-based cover band bringing a crowd-pleasing mix of classic rock\, funk and pop favourites – perfect for a fun night out with something for everyone. \nWith hits from artists like The Beatles\, Red Hot Chili Peppers\, Prince\, The Killers\, Amy Winehouse\, Talking Heads\, Bob Marley and more\, you can expect a great mix of singalongs and dance-floor favourites. \nMake a night of it:\n🍔 Food available from 5:00pm\n🍻 Happy Hour from 5:00pm – 6:00pm \n👉 Book a table for dinner before the show:\nhttps://mentonelsc.com/kitchen-and-bar-events/ \n🎟 Band Tickets\n$10 per person\nStrictly 18+ event \nDATE \n\n\nFriday 22 May 2026 8:15 PM – 11 PM \n\nClick to find out more about Side Project
URL:https://mentonelsc.com/event/side-project/
CATEGORIES:Bands by the Bay
ATTACH;FMTTYPE=image/png:https://mentonelsc.com/wp-content/uploads/2026/03/side-project-wide-1.png
END:VEVENT
BEGIN:VEVENT
DTSTART;TZID=Australia/Melbourne:20260529T170000
DTEND;TZID=Australia/Melbourne:20260529T210000
DTSTAMP:20260423T220132
CREATED:20260223T221529Z
LAST-MODIFIED:20260302T220333Z
UID:14430-1780074000-1780088400@mentonelsc.com
SUMMARY:Dinner and Drinks 5pm – 9pm
DESCRIPTION:Happy Hour 5-6pm
URL:https://mentonelsc.com/event/dinner-and-drinks-6pm-9pm-13/
ATTACH;FMTTYPE=image/jpeg:https://mentonelsc.com/wp-content/uploads/2025/10/Grilled-Chicken-Burger-e1761855352363.jpg
END:VEVENT
BEGIN:VEVENT
DTSTART;TZID=Australia/Melbourne:20260605T170000
DTEND;TZID=Australia/Melbourne:20260605T210000
DTSTAMP:20260423T220132
CREATED:20260223T221724Z
LAST-MODIFIED:20260302T220422Z
UID:14432-1780678800-1780693200@mentonelsc.com
SUMMARY:Dinner and Drinks 5pm – 9pm
DESCRIPTION:Happy Hour 5-6pm
URL:https://mentonelsc.com/event/dinner-and-drinks-6pm-9pm-14/
ATTACH;FMTTYPE=image/jpeg:https://mentonelsc.com/wp-content/uploads/2025/09/Chicken-Schnitzel-scaled-e1758488551452.jpeg
END:VEVENT
BEGIN:VEVENT
DTSTART;TZID=Australia/Melbourne:20260605T170000
DTEND;TZID=Australia/Melbourne:20260605T230000
DTSTAMP:20260423T220132
CREATED:20260330T000509Z
LAST-MODIFIED:20260330T011529Z
UID:14788-1780678800-1780700400@mentonelsc.com
SUMMARY:The Jetsons Band
DESCRIPTION:Mentone LSC Bands by the Bay presents The Jetsons Band\nClick to find out more and buy tickets to The Jetsons Band\n\n\nABOUT\nThe Jetsons are seasoned Melbourne musicians who have been entertaining crowds across Bayside and beyond for over a decade. \nKnown for their tight\, high-quality sound\, they deliver faithful renditions of classic dance and rock favourites from the 70’s\, 80’s\, 90’s and beyond – focusing on popular hits you know and love (without the overplayed setlist). \nMake a night of it:\n🍔 Food available from 5:00pm\n🍻 Happy Hour from 5:00pm – 6:00pm \n👉 Book a table for dinner before the show:\nhttps://mentonelsc.com/kitchen-and-bar-events/ \n🎟 Band Tickets\n$10 per person\nStrictly 18+ event \nDATE \n\n\nFriday 5 June 2026 8:15 PM – 11 PM \n\nClick to find out more about The Jetsons Band
URL:https://mentonelsc.com/event/the-jetsons-band/
CATEGORIES:Bands by the Bay
ATTACH;FMTTYPE=image/png:https://mentonelsc.com/wp-content/uploads/2026/03/Jetsons-Wide.png
END:VEVENT
BEGIN:VEVENT
DTSTART;TZID=Australia/Melbourne:20260612T170000
DTEND;TZID=Australia/Melbourne:20260612T210000
DTSTAMP:20260423T220132
CREATED:20260223T221817Z
LAST-MODIFIED:20260302T220501Z
UID:14434-1781283600-1781298000@mentonelsc.com
SUMMARY:Dinner and Drinks 5pm – 9pm
DESCRIPTION:Happy Hour 5-6pm
URL:https://mentonelsc.com/event/dinner-and-drinks-6pm-9pm-15/
ATTACH;FMTTYPE=image/jpeg:https://mentonelsc.com/wp-content/uploads/2024/10/Chicken-Salad-Dinner-scaled-e1771544589206.jpeg
END:VEVENT
BEGIN:VEVENT
DTSTART;TZID=Australia/Melbourne:20260619T170000
DTEND;TZID=Australia/Melbourne:20260619T210000
DTSTAMP:20260423T220132
CREATED:20260223T221931Z
LAST-MODIFIED:20260302T220745Z
UID:14436-1781888400-1781902800@mentonelsc.com
SUMMARY:Dinner and Drinks 5pm – 9pm
DESCRIPTION:Happy Hour 5-6pm
URL:https://mentonelsc.com/event/dinner-and-drinks-6pm-9pm-16/
ATTACH;FMTTYPE=image/jpeg:https://mentonelsc.com/wp-content/uploads/2025/09/IMG_0042-1-e1758489309294.jpg
END:VEVENT
BEGIN:VEVENT
DTSTART;TZID=Australia/Melbourne:20260619T170000
DTEND;TZID=Australia/Melbourne:20260619T230000
DTSTAMP:20260423T220132
CREATED:20260330T001444Z
LAST-MODIFIED:20260330T011507Z
UID:14791-1781888400-1781910000@mentonelsc.com
SUMMARY:SupAGroup (A collaboration between The Charltons and The Fretsliders)
DESCRIPTION:Mentone LSC Bands by the Bay presents SupAGroup\nClick to find out more and buy tickets to SupAgroup\n\n\nABOUT\nSupAGroup is a brand new Bayside collaboration featuring members of The Fretsliders and The Charltons\, bringing together two great local bands for a fun\, high-energy blend of classic rock\, bluesy grooves and crowd-favourite hits\, combining strong musicianship with a fun\, engaging live vibe. \nIf you’ve followed either band before\, this is your chance to catch an exciting new line-up performing the songs and live music favourites they’re known for. \nMake a night of it:\n🍔 Food available from 5:00pm\n🍻 Happy Hour from 5:00pm – 6:00pm \n👉 Book a table for dinner before the show:\nhttps://mentonelsc.com/kitchen-and-bar-events/ \n🎟 Band Tickets\n$10 per person\nStrictly 18+ event \nDATE \n\n\nFriday 19 June 2026 8:15 PM – 11 PM \n\nClick to find out more about SupAGroup \nClick to find out more about The Charltons \nClick to find out more about The Fretsliders
URL:https://mentonelsc.com/event/supagroup-a-collaboration-between-the-charltons-and-the-fretsliders/
CATEGORIES:Bands by the Bay
ATTACH;FMTTYPE=image/png:https://mentonelsc.com/wp-content/uploads/2026/03/supagroup-wide.png
END:VEVENT
BEGIN:VEVENT
DTSTART;TZID=Australia/Melbourne:20260626T170000
DTEND;TZID=Australia/Melbourne:20260626T210000
DTSTAMP:20260423T220132
CREATED:20260223T222028Z
LAST-MODIFIED:20260302T220824Z
UID:14438-1782493200-1782507600@mentonelsc.com
SUMMARY:Dinner and Drinks 5pm – 9pm
DESCRIPTION:Happy Hour 5-6pm
URL:https://mentonelsc.com/event/dinner-and-drinks-6pm-9pm-17/
ATTACH;FMTTYPE=image/jpeg:https://mentonelsc.com/wp-content/uploads/2025/10/IMG_6775-scaled-e1763685894597.jpeg
END:VEVENT
BEGIN:VEVENT
DTSTART;TZID=Australia/Melbourne:20260703T170000
DTEND;TZID=Australia/Melbourne:20260703T210000
DTSTAMP:20260423T220132
CREATED:20260223T222403Z
LAST-MODIFIED:20260302T221036Z
UID:14440-1783098000-1783112400@mentonelsc.com
SUMMARY:Dinner and Drinks 5pm – 9pm
DESCRIPTION:Happy Hour 5-6pm
URL:https://mentonelsc.com/event/dinner-and-drinks-6pm-9pm-18/
ATTACH;FMTTYPE=image/jpeg:https://mentonelsc.com/wp-content/uploads/2025/10/IMG_6774-scaled-e1761768410583.jpeg
END:VEVENT
BEGIN:VEVENT
DTSTART;TZID=Australia/Melbourne:20260710T170000
DTEND;TZID=Australia/Melbourne:20260710T210000
DTSTAMP:20260423T220132
CREATED:20260223T222526Z
LAST-MODIFIED:20260302T221120Z
UID:14442-1783702800-1783717200@mentonelsc.com
SUMMARY:Dinner and Drinks 5pm – 9pm
DESCRIPTION:Happy Hour 5-6pm
URL:https://mentonelsc.com/event/dinner-and-drinks-6pm-9pm-19/
ATTACH;FMTTYPE=image/jpeg:https://mentonelsc.com/wp-content/uploads/2025/10/Deck-meal-scaled-e1761768024634.jpg
END:VEVENT
BEGIN:VEVENT
DTSTART;TZID=Australia/Melbourne:20260717T170000
DTEND;TZID=Australia/Melbourne:20260717T210000
DTSTAMP:20260423T220132
CREATED:20260223T222659Z
LAST-MODIFIED:20260302T221152Z
UID:14444-1784307600-1784322000@mentonelsc.com
SUMMARY:Dinner and Drinks 5pm – 9pm
DESCRIPTION:Happy Hour 5-6pm
URL:https://mentonelsc.com/event/dinner-and-drinks-6pm-9pm-20/
ATTACH;FMTTYPE=image/jpeg:https://mentonelsc.com/wp-content/uploads/2025/10/IMG_0048-rotated-e1761766962481.jpg
END:VEVENT
BEGIN:VEVENT
DTSTART;TZID=Australia/Melbourne:20260724T170000
DTEND;TZID=Australia/Melbourne:20260724T210000
DTSTAMP:20260423T220132
CREATED:20260223T223514Z
LAST-MODIFIED:20260302T221335Z
UID:14446-1784912400-1784926800@mentonelsc.com
SUMMARY:Dinner and Drinks 5pm – 9pm
DESCRIPTION:Happy Hour 5-6pm
URL:https://mentonelsc.com/event/dinner-and-drinks-6pm-9pm-21/
ATTACH;FMTTYPE=image/jpeg:https://mentonelsc.com/wp-content/uploads/2025/10/Grilled-Chicken-Burger-e1761855352363.jpg
END:VEVENT
BEGIN:VEVENT
DTSTART;TZID=Australia/Melbourne:20260731T170000
DTEND;TZID=Australia/Melbourne:20260731T210000
DTSTAMP:20260423T220132
CREATED:20260223T223643Z
LAST-MODIFIED:20260302T221406Z
UID:14448-1785517200-1785531600@mentonelsc.com
SUMMARY:Dinner and Drinks 5pm – 9pm
DESCRIPTION:Happy Hour 5-6pm
URL:https://mentonelsc.com/event/dinner-and-drinks-6pm-9pm-22/
ATTACH;FMTTYPE=image/jpeg:https://mentonelsc.com/wp-content/uploads/2025/09/Chicken-Schnitzel-scaled-e1758488551452.jpeg
END:VEVENT
BEGIN:VEVENT
DTSTART;TZID=Australia/Melbourne:20260807T170000
DTEND;TZID=Australia/Melbourne:20260807T210000
DTSTAMP:20260423T220132
CREATED:20260223T223918Z
LAST-MODIFIED:20260302T221440Z
UID:14450-1786122000-1786136400@mentonelsc.com
SUMMARY:Dinner and Drinks 5pm – 9pm
DESCRIPTION:Happy Hour 5-6pm
URL:https://mentonelsc.com/event/dinner-and-drinks-6pm-9pm-23/
ATTACH;FMTTYPE=image/jpeg:https://mentonelsc.com/wp-content/uploads/2024/10/Chicken-Salad-Dinner-scaled-e1771544589206.jpeg
END:VEVENT
BEGIN:VEVENT
DTSTART;TZID=Australia/Melbourne:20260814T170000
DTEND;TZID=Australia/Melbourne:20260814T210000
DTSTAMP:20260423T220132
CREATED:20260223T224026Z
LAST-MODIFIED:20260302T221510Z
UID:14452-1786726800-1786741200@mentonelsc.com
SUMMARY:Dinner and Drinks 5pm – 9pm
DESCRIPTION:Happy Hour 5-6pm
URL:https://mentonelsc.com/event/dinner-and-drinks-6pm-9pm-24/
ATTACH;FMTTYPE=image/jpeg:https://mentonelsc.com/wp-content/uploads/2025/09/IMG_0042-1-e1758489309294.jpg
END:VEVENT
BEGIN:VEVENT
DTSTART;TZID=Australia/Melbourne:20260821T170000
DTEND;TZID=Australia/Melbourne:20260821T210000
DTSTAMP:20260423T220132
CREATED:20260223T224127Z
LAST-MODIFIED:20260302T221541Z
UID:14454-1787331600-1787346000@mentonelsc.com
SUMMARY:Dinner and Drinks 5pm – 9pm
DESCRIPTION:Happy Hour 5-6pm
URL:https://mentonelsc.com/event/dinner-and-drinks-6pm-9pm-25/
ATTACH;FMTTYPE=image/jpeg:https://mentonelsc.com/wp-content/uploads/2025/10/IMG_6775-scaled-e1763685894597.jpeg
END:VEVENT
BEGIN:VEVENT
DTSTART;TZID=Australia/Melbourne:20260828T170000
DTEND;TZID=Australia/Melbourne:20260828T210000
DTSTAMP:20260423T220132
CREATED:20260223T224234Z
LAST-MODIFIED:20260302T221626Z
UID:14456-1787936400-1787950800@mentonelsc.com
SUMMARY:Dinner and Drinks 5pm – 9pm
DESCRIPTION:Happy Hour 5-6pm
URL:https://mentonelsc.com/event/dinner-and-drinks-6pm-9pm-26/
ATTACH;FMTTYPE=image/jpeg:https://mentonelsc.com/wp-content/uploads/2025/10/IMG_6774-scaled-e1761768410583.jpeg
END:VEVENT
BEGIN:VEVENT
DTSTART;TZID=Australia/Melbourne:20260904T170000
DTEND;TZID=Australia/Melbourne:20260904T210000
DTSTAMP:20260423T220132
CREATED:20260223T224820Z
LAST-MODIFIED:20260302T221659Z
UID:14458-1788541200-1788555600@mentonelsc.com
SUMMARY:Dinner and Drinks 5pm – 9pm
DESCRIPTION:Happy Hour 5-6pm
URL:https://mentonelsc.com/event/dinner-and-drinks-6pm-9pm-27/
ATTACH;FMTTYPE=image/jpeg:https://mentonelsc.com/wp-content/uploads/2025/10/IMG_6775-scaled-e1763685894597.jpeg
END:VEVENT
BEGIN:VEVENT
DTSTART;TZID=Australia/Melbourne:20260911T170000
DTEND;TZID=Australia/Melbourne:20260911T210000
DTSTAMP:20260423T220132
CREATED:20260223T224930Z
LAST-MODIFIED:20260302T222039Z
UID:14460-1789146000-1789160400@mentonelsc.com
SUMMARY:Dinner and Drinks 5pm – 9pm
DESCRIPTION:Happy Hour 5-6pm
URL:https://mentonelsc.com/event/dinner-and-drinks-6pm-9pm-28/
ATTACH;FMTTYPE=image/jpeg:https://mentonelsc.com/wp-content/uploads/2025/10/Deck-meal-scaled-e1761768024634.jpg
END:VEVENT
END:VCALENDAR