BEGIN:VCALENDAR
VERSION:2.0
PRODID:-//Mentone Life Saving Club - ECPv6.15.20//NONSGML v1.0//EN
CALSCALE:GREGORIAN
METHOD:PUBLISH
X-WR-CALNAME:Mentone Life Saving Club
X-ORIGINAL-URL:https://mentonelsc.com
X-WR-CALDESC:Events for Mentone Life Saving Club
REFRESH-INTERVAL;VALUE=DURATION:PT1H
X-Robots-Tag:noindex
X-PUBLISHED-TTL:PT1H
BEGIN:VTIMEZONE
TZID:Australia/Melbourne
BEGIN:STANDARD
TZOFFSETFROM:+1100
TZOFFSETTO:+1000
TZNAME:AEST
DTSTART:20240406T160000
END:STANDARD
BEGIN:DAYLIGHT
TZOFFSETFROM:+1000
TZOFFSETTO:+1100
TZNAME:AEDT
DTSTART:20241005T160000
END:DAYLIGHT
BEGIN:STANDARD
TZOFFSETFROM:+1100
TZOFFSETTO:+1000
TZNAME:AEST
DTSTART:20250405T160000
END:STANDARD
BEGIN:DAYLIGHT
TZOFFSETFROM:+1000
TZOFFSETTO:+1100
TZNAME:AEDT
DTSTART:20251004T160000
END:DAYLIGHT
BEGIN:STANDARD
TZOFFSETFROM:+1100
TZOFFSETTO:+1000
TZNAME:AEST
DTSTART:20260404T160000
END:STANDARD
BEGIN:DAYLIGHT
TZOFFSETFROM:+1000
TZOFFSETTO:+1100
TZNAME:AEDT
DTSTART:20261003T160000
END:DAYLIGHT
END:VTIMEZONE
BEGIN:VEVENT
DTSTART;TZID=Australia/Melbourne:20250907T120000
DTEND;TZID=Australia/Melbourne:20250907T160000
DTSTAMP:20260424T202219
CREATED:20250715T042505Z
LAST-MODIFIED:20250827T230752Z
UID:12679-1757246400-1757260800@mentonelsc.com
SUMMARY:American Barbecue Father's Day Lunch
DESCRIPTION:Father’s Day at Mentone Life Saving Club!\n\n\nCome and celebrate the special men in your life with a family-friendly American BBQ Lunch at Mentone Life Saving Club on Sunday September 7 from 12pm.\n\n\nChoose from pre-ordered platters or an a la carte menu created by BIG little Catering Co.\n\n\nPre-ordering a platter is highly recommended as platters will be limited and not all platter items will be available on the a la carte menu.\n\n\n\nPLATTER (Serves 4) – $99\nThe platter features a selection from the following:\n· Pork Ribs\n· Chicken Wings\n· Smoked Brisket\n· Pulled Pork\n· Mac and Cheese\n· Corn\n· Coleslaw\n· Potato Salad\n· Fries\n· Various sauces / condiments\n\n\nA la carte options include:\n· Various Burgers\n· Falafel\n· Limited selection of Platter Options\n· Kids Menu\n\n\nThere will also be live music and our incredible view of the bay!\n\n\nBook at https://www.trybooking.com/DEJAP (closes 11pm on September 3).
URL:https://mentonelsc.com/event/fathers-day-lunch/
ATTACH;FMTTYPE=image/jpeg:https://mentonelsc.com/wp-content/uploads/2025/07/539996197_1316455816935976_992415287638229343_n.jpg
END:VEVENT
BEGIN:VEVENT
DTSTART;TZID=Australia/Melbourne:20250912T170000
DTEND;TZID=Australia/Melbourne:20250912T190000
DTSTAMP:20260424T202219
CREATED:20250827T232424Z
LAST-MODIFIED:20250909T223033Z
UID:12947-1757696400-1757703600@mentonelsc.com
SUMMARY:Watch AFL Finals with Friday night drinks – Happy hour 5-6pm
DESCRIPTION:September – Friday night Finals \nHappy hour 5–6pmCheese platters available 5–7pmBYO food from our local traders – kitchen closedMembers and guests welcome – AFL Finals on the big screen
URL:https://mentonelsc.com/event/friday-night-drinks-happy-hour-5-6pm-5/
ATTACH;FMTTYPE=image/jpeg:https://mentonelsc.com/wp-content/uploads/2025/09/Sept-Fri-night-Finals-.jpg
END:VEVENT
BEGIN:VEVENT
DTSTART;TZID=Australia/Melbourne:20250919T170000
DTEND;TZID=Australia/Melbourne:20250919T190000
DTSTAMP:20260424T202219
CREATED:20250827T233931Z
LAST-MODIFIED:20250909T222929Z
UID:12949-1758301200-1758308400@mentonelsc.com
SUMMARY:Watch AFL Finals with Friday night drinks – Happy hour 5-6pm
DESCRIPTION:September – Friday night Finals \nHappy hour 5–6pmCheese platters available 5–7pmBYO food from our local traders – kitchen closedMembers and guests welcome – AFL Finals on the big screen
URL:https://mentonelsc.com/event/friday-night-drinks-happy-hour-5-6pm-6/
ATTACH;FMTTYPE=image/jpeg:https://mentonelsc.com/wp-content/uploads/2025/09/Sept-Fri-night-Finals-.jpg
END:VEVENT
BEGIN:VEVENT
DTSTART;TZID=Australia/Melbourne:20250927T120000
DTEND;TZID=Australia/Melbourne:20250927T170000
DTSTAMP:20260424T202219
CREATED:20250905T020422Z
LAST-MODIFIED:20250909T222039Z
UID:12975-1758974400-1758992400@mentonelsc.com
SUMMARY:AFL Grand Final Day - At The Club
DESCRIPTION:Members and guests welcome\, bar and kitchen open from 12pm. \nKids activities will be available pre-game and half time. \nBookings requested https://www.trybooking.com/DFJFB
URL:https://mentonelsc.com/event/afl-grand-final-day-at-the-club/
ATTACH;FMTTYPE=image/png:https://mentonelsc.com/wp-content/uploads/2025/09/AFL-GF-Image-169.png
END:VEVENT
BEGIN:VEVENT
DTSTART;TZID=Australia/Melbourne:20251003T170000
DTEND;TZID=Australia/Melbourne:20251003T230000
DTSTAMP:20260424T202219
CREATED:20250909T224442Z
LAST-MODIFIED:20250925T063603Z
UID:13006-1759510800-1759532400@mentonelsc.com
SUMMARY:Friday Night Dinner and Music By the Bay
DESCRIPTION:Enjoy dinner and live music from Catnip the Band on Friday 3rd of October. \nReserve a table for dinner https://mentonelsc.com/bar-and-kitchen-events/ \nBook here for the Band only  https://www.trybooking.com/DFNVS \nHappy hour 5:00pm-6:00pm. \nMeals from 5:00pm -8:00pm. \nMusic from 8:15pm – 11:00pm.
URL:https://mentonelsc.com/event/friday-night-dinner-and-music-by-the-bay/
ATTACH;FMTTYPE=image/jpeg:https://mentonelsc.com/wp-content/uploads/2025/09/Catnip-the-Band.jpg
END:VEVENT
BEGIN:VEVENT
DTSTART;TZID=Australia/Melbourne:20251010T170000
DTEND;TZID=Australia/Melbourne:20251010T210000
DTSTAMP:20260424T202219
CREATED:20250921T210339Z
LAST-MODIFIED:20250921T210707Z
UID:13053-1760115600-1760130000@mentonelsc.com
SUMMARY:Dinner and Drinks 5pm - 9pm
DESCRIPTION:Happy Hour 5pm – 6pm
URL:https://mentonelsc.com/event/dinner-and-drinks-happy-hour-5pm/
ATTACH;FMTTYPE=image/jpeg:https://mentonelsc.com/wp-content/uploads/2025/09/Chicken-Schnitzel-scaled-e1758488551452.jpeg
END:VEVENT
BEGIN:VEVENT
DTSTART;TZID=Australia/Melbourne:20251012T080000
DTEND;TZID=Australia/Melbourne:20251012T140000
DTSTAMP:20260424T202219
CREATED:20250921T212506Z
LAST-MODIFIED:20250921T212549Z
UID:13068-1760256000-1760277600@mentonelsc.com
SUMMARY:Sunday Breakfast / Lunch 8am-2pm
DESCRIPTION:No bookings – walk ins only
URL:https://mentonelsc.com/event/sunday-breakfast-lunch-8am-2pm-14/
ATTACH;FMTTYPE=image/jpeg:https://mentonelsc.com/wp-content/uploads/2025/09/IMG_6793-scaled-e1758489876410.jpeg
END:VEVENT
BEGIN:VEVENT
DTSTART;TZID=Australia/Melbourne:20251017T170000
DTEND;TZID=Australia/Melbourne:20251017T210000
DTSTAMP:20260424T202219
CREATED:20250921T211307Z
LAST-MODIFIED:20250921T211307Z
UID:13058-1760720400-1760734800@mentonelsc.com
SUMMARY:Dinner and Drinks 5pm - 9pm
DESCRIPTION:Happy Hour 5pm – 6pm
URL:https://mentonelsc.com/event/dinner-and-drinks-5pm-9pm/
ATTACH;FMTTYPE=image/jpeg:https://mentonelsc.com/wp-content/uploads/2025/09/Beef-and-Bacon-Burger-e1758489126599.jpg
END:VEVENT
BEGIN:VEVENT
DTSTART;TZID=Australia/Melbourne:20251019T080000
DTEND;TZID=Australia/Melbourne:20251019T140000
DTSTAMP:20260424T202219
CREATED:20250921T212950Z
LAST-MODIFIED:20250921T212950Z
UID:13071-1760860800-1760882400@mentonelsc.com
SUMMARY:Sunday Breakfast / Lunch 8am-2pm
DESCRIPTION:No bookings – walk ins only
URL:https://mentonelsc.com/event/sunday-breakfast-lunch-8am-2pm-15/
ATTACH;FMTTYPE=image/jpeg:https://mentonelsc.com/wp-content/uploads/2025/09/IMG_6797-scaled-e1758490148533.jpeg
END:VEVENT
BEGIN:VEVENT
DTSTART;TZID=Australia/Melbourne:20251024T120000
DTEND;TZID=Australia/Melbourne:20251024T150000
DTSTAMP:20260424T202219
CREATED:20250912T062032Z
LAST-MODIFIED:20250912T062032Z
UID:13024-1761307200-1761318000@mentonelsc.com
SUMMARY:Pink Ribbon High Tea Fundraiser 12-3pm
DESCRIPTION:Pink Ribbon High Tea Fundraiser \nFriday 24 October 12-3pm \n$65 – more details and links to follow
URL:https://mentonelsc.com/event/pink-ribbon-high-tea-fundraiser-12-3pm/
ATTACH;FMTTYPE=image/png:https://mentonelsc.com/wp-content/uploads/2025/09/Pink-high-tea-square.png
END:VEVENT
BEGIN:VEVENT
DTSTART;TZID=Australia/Melbourne:20251024T170000
DTEND;TZID=Australia/Melbourne:20251024T210000
DTSTAMP:20260424T202219
CREATED:20250921T211520Z
LAST-MODIFIED:20250921T211520Z
UID:13061-1761325200-1761339600@mentonelsc.com
SUMMARY:Dinner and Drinks 5pm - 9pm
DESCRIPTION:Happy Hour 5pm – 6pm
URL:https://mentonelsc.com/event/dinner-and-drinks-5pm-9pm-2/
ATTACH;FMTTYPE=image/jpeg:https://mentonelsc.com/wp-content/uploads/2025/09/IMG_0042-1-e1758489309294.jpg
END:VEVENT
BEGIN:VEVENT
DTSTART;TZID=Australia/Melbourne:20251026T080000
DTEND;TZID=Australia/Melbourne:20251026T113000
DTSTAMP:20260424T202219
CREATED:20250921T213449Z
LAST-MODIFIED:20251022T234100Z
UID:13074-1761465600-1761478200@mentonelsc.com
SUMMARY:Sunday Breakfast Only 8am-11:30am
DESCRIPTION:No bookings – walk ins only
URL:https://mentonelsc.com/event/sunday-breakfast-lunch-8am-2pm-16/
ATTACH;FMTTYPE=image/jpeg:https://mentonelsc.com/wp-content/uploads/2025/09/unnamed-scaled-e1758490463627.jpg
END:VEVENT
BEGIN:VEVENT
DTSTART;TZID=Australia/Melbourne:20251030T173000
DTEND;TZID=Australia/Melbourne:20251030T210000
DTSTAMP:20260424T202219
CREATED:20251029T194319Z
LAST-MODIFIED:20251030T195225Z
UID:13459-1761845400-1761858000@mentonelsc.com
SUMMARY:Dinner and Drinks 5:30pm - 9pm
DESCRIPTION:Members: Book online using the link in the newsletter \nVisitors: Walk-ins are welcome
URL:https://mentonelsc.com/event/dinner-and-drinks-5pm-9pm-6/
ATTACH;FMTTYPE=image/jpeg:https://mentonelsc.com/wp-content/uploads/2025/10/IMG_0048-rotated-e1761766962481.jpg
END:VEVENT
BEGIN:VEVENT
DTSTART;TZID=Australia/Melbourne:20251031T170000
DTEND;TZID=Australia/Melbourne:20251031T210000
DTSTAMP:20260424T202219
CREATED:20250921T212002Z
LAST-MODIFIED:20250921T212002Z
UID:13064-1761930000-1761944400@mentonelsc.com
SUMMARY:Dinner and Drinks 5pm - 9pm
DESCRIPTION:Happy Hour 5pm-6pm
URL:https://mentonelsc.com/event/dinner-and-drinks-5pm-9pm-3/
ATTACH;FMTTYPE=image/jpeg:https://mentonelsc.com/wp-content/uploads/2025/09/IMG_6774-scaled-e1758489572701.jpeg
END:VEVENT
BEGIN:VEVENT
DTSTART;TZID=Australia/Melbourne:20251102T080000
DTEND;TZID=Australia/Melbourne:20251102T140000
DTSTAMP:20260424T202219
CREATED:20251007T224000Z
LAST-MODIFIED:20251007T224734Z
UID:13178-1762070400-1762092000@mentonelsc.com
SUMMARY:Sunday Breakfast / Lunch 8am-2pm
DESCRIPTION:No bookings – walk ins only
URL:https://mentonelsc.com/event/sunday-breakfast-lunch-8am-2pm-17/
ATTACH;FMTTYPE=image/jpeg:https://mentonelsc.com/wp-content/uploads/2024/08/Breakfast-at-Mentone-Lifesaving-Club-scaled-e1771545038771.jpg
END:VEVENT
BEGIN:VEVENT
DTSTART;TZID=Australia/Melbourne:20251106T173000
DTEND;TZID=Australia/Melbourne:20251106T210000
DTSTAMP:20260424T202219
CREATED:20251029T200051Z
LAST-MODIFIED:20251030T195151Z
UID:13474-1762450200-1762462800@mentonelsc.com
SUMMARY:Dinner and Drinks 5:30pm - 9pm
DESCRIPTION:Members: Book online using the link in the newsletter \nVisitors: Walk-ins are welcome
URL:https://mentonelsc.com/event/dinner-and-drinks-5pm-9pm-7/
ATTACH;FMTTYPE=image/jpeg:https://mentonelsc.com/wp-content/uploads/2025/10/Deck-meal-scaled-e1761768024634.jpg
END:VEVENT
BEGIN:VEVENT
DTSTART;TZID=Australia/Melbourne:20251107T170000
DTEND;TZID=Australia/Melbourne:20251107T210000
DTSTAMP:20260424T202219
CREATED:20251007T224118Z
LAST-MODIFIED:20251007T224852Z
UID:13180-1762534800-1762549200@mentonelsc.com
SUMMARY:Dinner and Drinks 5pm – 9pm
DESCRIPTION:Happy Hour 5pm-6pm
URL:https://mentonelsc.com/event/dinner-and-drinks-5pm-9pm-4/
ATTACH;FMTTYPE=image/jpeg:https://mentonelsc.com/wp-content/uploads/2023/11/Drinks-on-the-Deck-e1759877324724.jpg
END:VEVENT
BEGIN:VEVENT
DTSTART;TZID=Australia/Melbourne:20251109T120000
DTEND;TZID=Australia/Melbourne:20251109T150000
DTSTAMP:20260424T202219
CREATED:20251007T224246Z
LAST-MODIFIED:20251107T041818Z
UID:13182-1762689600-1762700400@mentonelsc.com
SUMMARY:Sunday Lunch Only 12pm - 3pm
DESCRIPTION:No bookings – walk ins only \nLunch only this week due to road closures for the Triathlon.
URL:https://mentonelsc.com/event/sunday-breakfast-lunch-8am-2pm-18/
ATTACH;FMTTYPE=image/jpeg:https://mentonelsc.com/wp-content/uploads/2025/10/Deck-meal-scaled-e1761768024634.jpg
END:VEVENT
BEGIN:VEVENT
DTSTART;TZID=Australia/Melbourne:20251113T173000
DTEND;TZID=Australia/Melbourne:20251113T210000
DTSTAMP:20260424T202219
CREATED:20251029T200457Z
LAST-MODIFIED:20251030T195113Z
UID:13476-1763055000-1763067600@mentonelsc.com
SUMMARY:Dinner and Drinks 5:30pm - 9pm
DESCRIPTION:Members: Book online using the link in the newsletter \nVisitors: Walk-ins are welcome
URL:https://mentonelsc.com/event/dinner-and-drinks-5pm-9pm-8/
ATTACH;FMTTYPE=image/jpeg:https://mentonelsc.com/wp-content/uploads/2025/10/Lamb-salad-scaled-e1761768256800.jpeg
END:VEVENT
BEGIN:VEVENT
DTSTART;TZID=Australia/Melbourne:20251114T170000
DTEND;TZID=Australia/Melbourne:20251114T210000
DTSTAMP:20260424T202219
CREATED:20251030T200621Z
LAST-MODIFIED:20251030T200839Z
UID:13496-1763139600-1763154000@mentonelsc.com
SUMMARY:Dinner and Drinks 5pm – 9pm
DESCRIPTION:Happy hour 5pm – 6pm
URL:https://mentonelsc.com/event/dinner-and-drinks-5pm-9pm-10/
ATTACH;FMTTYPE=image/jpeg:https://mentonelsc.com/wp-content/uploads/2025/09/Chicken-Schnitzel-scaled-e1758488551452.jpeg
END:VEVENT
BEGIN:VEVENT
DTSTART;TZID=Australia/Melbourne:20251116T080000
DTEND;TZID=Australia/Melbourne:20251116T150000
DTSTAMP:20260424T202219
CREATED:20251030T195719Z
LAST-MODIFIED:20251107T032444Z
UID:13490-1763280000-1763305200@mentonelsc.com
SUMMARY:Sunday Breakfast / Lunch 8am-3pm
DESCRIPTION:No bookings – walk ins only
URL:https://mentonelsc.com/event/sunday-breakfast-lunch-8am-2pm-19/
ATTACH;FMTTYPE=image/jpeg:https://mentonelsc.com/wp-content/uploads/2025/09/Beef-and-Bacon-Burger-e1758489126599.jpg
END:VEVENT
BEGIN:VEVENT
DTSTART;TZID=Australia/Melbourne:20251120T173000
DTEND;TZID=Australia/Melbourne:20251120T210000
DTSTAMP:20260424T202219
CREATED:20251029T200724Z
LAST-MODIFIED:20251030T194949Z
UID:13478-1763659800-1763672400@mentonelsc.com
SUMMARY:Dinner and Drinks 5:30pm - 9pm
DESCRIPTION:Members: Book online using the link in the newsletter \nVisitors: Walk-ins are welcome
URL:https://mentonelsc.com/event/dinner-and-drinks-5pm-9pm-9/
ATTACH;FMTTYPE=image/jpeg:https://mentonelsc.com/wp-content/uploads/2025/10/IMG_6774-scaled-e1761768410583.jpeg
END:VEVENT
BEGIN:VEVENT
DTSTART;TZID=Australia/Melbourne:20251121T170000
DTEND;TZID=Australia/Melbourne:20251121T210000
DTSTAMP:20260424T202219
CREATED:20251030T201214Z
LAST-MODIFIED:20251030T201214Z
UID:13498-1763744400-1763758800@mentonelsc.com
SUMMARY:Dinner and Drinks 5pm – 9pm
DESCRIPTION:Happy hour – 5-6pm
URL:https://mentonelsc.com/event/dinner-and-drinks-5pm-9pm-5/
ATTACH;FMTTYPE=image/jpeg:https://mentonelsc.com/wp-content/uploads/2025/10/Lamb-salad-scaled-e1761768256800.jpeg
END:VEVENT
BEGIN:VEVENT
DTSTART;TZID=Australia/Melbourne:20251123T080000
DTEND;TZID=Australia/Melbourne:20251123T150000
DTSTAMP:20260424T202219
CREATED:20251030T200113Z
LAST-MODIFIED:20251107T032407Z
UID:13492-1763884800-1763910000@mentonelsc.com
SUMMARY:Sunday Breakfast / Lunch 8am-3pm
DESCRIPTION:No bookings – Walk ins only
URL:https://mentonelsc.com/event/sunday-breakfast-lunch-8am-2pm-20/
ATTACH;FMTTYPE=image/jpeg:https://mentonelsc.com/wp-content/uploads/2025/09/IMG_6797-scaled-e1758490148533.jpeg
END:VEVENT
BEGIN:VEVENT
DTSTART;TZID=Australia/Melbourne:20251127T173000
DTEND;TZID=Australia/Melbourne:20251127T210000
DTSTAMP:20260424T202219
CREATED:20251029T200935Z
LAST-MODIFIED:20251030T194902Z
UID:13480-1764264600-1764277200@mentonelsc.com
SUMMARY:Dinner and Drinks 5:30pm - 9pm
DESCRIPTION:Members: Book online using the link in the newsletter \nVisitors: Walk-ins are welcome
URL:https://mentonelsc.com/event/dinner-and-drinks-530pm-9pm-10/
ATTACH;FMTTYPE=image/jpeg:https://mentonelsc.com/wp-content/uploads/2025/09/Chicken-Schnitzel-scaled-e1758488551452.jpeg
END:VEVENT
BEGIN:VEVENT
DTSTART;TZID=Australia/Melbourne:20251128T170000
DTEND;TZID=Australia/Melbourne:20251128T210000
DTSTAMP:20260424T202219
CREATED:20251030T201612Z
LAST-MODIFIED:20251128T012214Z
UID:13500-1764349200-1764363600@mentonelsc.com
SUMMARY:Dinner and Drinks 5pm – 9pm
DESCRIPTION:Happy hour 5-6pm \nDinner Bookings Closed
URL:https://mentonelsc.com/event/dinner-and-drinks-5pm-9pm-11/
ATTACH;FMTTYPE=image/jpeg:https://mentonelsc.com/wp-content/uploads/2025/10/Grilled-Chicken-Burger-e1761855352363.jpg
END:VEVENT
BEGIN:VEVENT
DTSTART;TZID=Australia/Melbourne:20251130T080000
DTEND;TZID=Australia/Melbourne:20251130T150000
DTSTAMP:20260424T202219
CREATED:20251030T200329Z
LAST-MODIFIED:20251107T032307Z
UID:13494-1764489600-1764514800@mentonelsc.com
SUMMARY:Sunday Breakfast / Lunch 8am-3pm
DESCRIPTION:No bookings – Walk ins only
URL:https://mentonelsc.com/event/sunday-breakfast-lunch-8am-2pm-21/
ATTACH;FMTTYPE=image/jpeg:https://mentonelsc.com/wp-content/uploads/2025/10/Deck-meal-scaled-e1761768024634.jpg
END:VEVENT
BEGIN:VEVENT
DTSTART;TZID=Australia/Melbourne:20251204T173000
DTEND;TZID=Australia/Melbourne:20251204T210000
DTSTAMP:20260424T202219
CREATED:20251121T020629Z
LAST-MODIFIED:20251121T020629Z
UID:13685-1764869400-1764882000@mentonelsc.com
SUMMARY:Dinner and Drinks 5:30pm – 9pm
DESCRIPTION:Members: Book online using the link in the newsletter \nVisitors: Walk-ins are welcome
URL:https://mentonelsc.com/event/dinner-and-drinks-530pm-9pm/
ATTACH;FMTTYPE=image/jpeg:https://mentonelsc.com/wp-content/uploads/2025/10/IMG_0048-rotated-e1761766962481.jpg
END:VEVENT
BEGIN:VEVENT
DTSTART;TZID=Australia/Melbourne:20251205T170000
DTEND;TZID=Australia/Melbourne:20251205T210000
DTSTAMP:20260424T202219
CREATED:20251121T020951Z
LAST-MODIFIED:20251121T020951Z
UID:13688-1764954000-1764968400@mentonelsc.com
SUMMARY:Dinner and Drinks 5pm – 9pm
DESCRIPTION:Happy hour 5-6pm
URL:https://mentonelsc.com/event/dinner-and-drinks-5pm-9pm-12/
ATTACH;FMTTYPE=image/jpeg:https://mentonelsc.com/wp-content/uploads/2025/10/IMG_6775-scaled-e1763685894597.jpeg
END:VEVENT
BEGIN:VEVENT
DTSTART;TZID=Australia/Melbourne:20251207T080000
DTEND;TZID=Australia/Melbourne:20251207T170000
DTSTAMP:20260424T202219
CREATED:20251121T021220Z
LAST-MODIFIED:20251125T193500Z
UID:13692-1765094400-1765126800@mentonelsc.com
SUMMARY:Sunday Breakfast / Lunch 8am-5pm - Tapas from 2pm - Live music from 1pm
DESCRIPTION:No bookings – Walk ins only \nMusic and Tapas \nCome on up after Nippers\nTapas from 2pm\nLive music from 1pm.
URL:https://mentonelsc.com/event/sunday-breakfast-lunch-8am-3pm/
ATTACH;FMTTYPE=image/png:https://mentonelsc.com/wp-content/uploads/2025/11/Dec-7-Insta-Post-Instagram-Post-45.png
END:VEVENT
END:VCALENDAR