BEGIN:VCALENDAR
VERSION:2.0
PRODID:-//Mentone Life Saving Club - ECPv6.15.20//NONSGML v1.0//EN
CALSCALE:GREGORIAN
METHOD:PUBLISH
X-WR-CALNAME:Mentone Life Saving Club
X-ORIGINAL-URL:https://mentonelsc.com
X-WR-CALDESC:Events for Mentone Life Saving Club
REFRESH-INTERVAL;VALUE=DURATION:PT1H
X-Robots-Tag:noindex
X-PUBLISHED-TTL:PT1H
BEGIN:VTIMEZONE
TZID:Australia/Melbourne
BEGIN:STANDARD
TZOFFSETFROM:+1100
TZOFFSETTO:+1000
TZNAME:AEST
DTSTART:20250405T160000
END:STANDARD
BEGIN:DAYLIGHT
TZOFFSETFROM:+1000
TZOFFSETTO:+1100
TZNAME:AEDT
DTSTART:20251004T160000
END:DAYLIGHT
BEGIN:STANDARD
TZOFFSETFROM:+1100
TZOFFSETTO:+1000
TZNAME:AEST
DTSTART:20260404T160000
END:STANDARD
BEGIN:DAYLIGHT
TZOFFSETFROM:+1000
TZOFFSETTO:+1100
TZNAME:AEDT
DTSTART:20261003T160000
END:DAYLIGHT
BEGIN:STANDARD
TZOFFSETFROM:+1100
TZOFFSETTO:+1000
TZNAME:AEST
DTSTART:20270403T160000
END:STANDARD
BEGIN:DAYLIGHT
TZOFFSETFROM:+1000
TZOFFSETTO:+1100
TZNAME:AEDT
DTSTART:20271002T160000
END:DAYLIGHT
END:VTIMEZONE
BEGIN:VEVENT
DTSTART;TZID=Australia/Melbourne:20260212T173000
DTEND;TZID=Australia/Melbourne:20260212T210000
DTSTAMP:20260424T103110
CREATED:20260201T212041Z
LAST-MODIFIED:20260201T212041Z
UID:14210-1770917400-1770930000@mentonelsc.com
SUMMARY:Dinner and Drinks 5:30pm – 9pm
DESCRIPTION:Members: Book online using the link in the newsletter \nVisitors: Walk-ins are welcome
URL:https://mentonelsc.com/event/dinner-and-drinks-530pm-9pm-9/
ATTACH;FMTTYPE=image/jpeg:https://mentonelsc.com/wp-content/uploads/2025/10/IMG_6775-scaled-e1763685894597.jpeg
END:VEVENT
BEGIN:VEVENT
DTSTART;TZID=Australia/Melbourne:20260213T170000
DTEND;TZID=Australia/Melbourne:20260213T210000
DTSTAMP:20260424T103110
CREATED:20260201T212156Z
LAST-MODIFIED:20260201T212156Z
UID:14212-1771002000-1771016400@mentonelsc.com
SUMMARY:Dinner and Drinks 5pm – 9pm
DESCRIPTION:
URL:https://mentonelsc.com/event/dinner-and-drinks-5pm-9pm-21/
ATTACH;FMTTYPE=image/jpeg:https://mentonelsc.com/wp-content/uploads/2025/10/IMG_6774-scaled-e1761768410583.jpeg
END:VEVENT
BEGIN:VEVENT
DTSTART;TZID=Australia/Melbourne:20260215T080000
DTEND;TZID=Australia/Melbourne:20260215T170000
DTSTAMP:20260424T103111
CREATED:20260104T232527Z
LAST-MODIFIED:20260201T210613Z
UID:13977-1771142400-1771174800@mentonelsc.com
SUMMARY:Sunday Breakfast / Lunch / Tapas and Live Music 8am-5pm
DESCRIPTION:No bookings – Walk ins only Tapas and Live Music from the Fretsliders 2-5pm
URL:https://mentonelsc.com/event/sunday-breakfast-lunch-tapas-and-live-music-8am-5pm/
ATTACH;FMTTYPE=image/png:https://mentonelsc.com/wp-content/uploads/2026/01/Summer-Sundays-Fretsliders-Insta-Post-Instagram-Post-455.png
END:VEVENT
BEGIN:VEVENT
DTSTART;TZID=Australia/Melbourne:20260219T173000
DTEND;TZID=Australia/Melbourne:20260219T210000
DTSTAMP:20260424T103111
CREATED:20260201T212412Z
LAST-MODIFIED:20260201T212412Z
UID:14214-1771522200-1771534800@mentonelsc.com
SUMMARY:Dinner and Drinks 5:30pm – 9pm
DESCRIPTION:Members: Book online using the link in the newsletter \nVisitors: Walk-ins are welcome
URL:https://mentonelsc.com/event/dinner-and-drinks-530pm-9pm-11/
ATTACH;FMTTYPE=image/jpeg:https://mentonelsc.com/wp-content/uploads/2025/09/Deck-meal-scaled-e1758774091127.jpg
END:VEVENT
BEGIN:VEVENT
DTSTART;TZID=Australia/Melbourne:20260220T173000
DTEND;TZID=Australia/Melbourne:20260220T210000
DTSTAMP:20260424T103111
CREATED:20260201T212524Z
LAST-MODIFIED:20260201T212524Z
UID:14216-1771608600-1771621200@mentonelsc.com
SUMMARY:Dinner and Drinks 5pm – 9pm
DESCRIPTION:
URL:https://mentonelsc.com/event/dinner-and-drinks-5pm-9pm-22/
ATTACH;FMTTYPE=image/jpeg:https://mentonelsc.com/wp-content/uploads/2025/09/IMG_0042-1-e1758489309294.jpg
END:VEVENT
BEGIN:VEVENT
DTSTART;TZID=Australia/Melbourne:20260222T080000
DTEND;TZID=Australia/Melbourne:20260222T170000
DTSTAMP:20260424T103111
CREATED:20260201T212655Z
LAST-MODIFIED:20260201T212655Z
UID:14218-1771747200-1771779600@mentonelsc.com
SUMMARY:Sunday Breakfast / Lunch / Tapas and Live Music 8am-5pm
DESCRIPTION:No bookings – Walk ins only Tapas and Live Music from Urban Groove 2-5pm
URL:https://mentonelsc.com/event/sunday-breakfast-lunch-tapas-and-live-music-8am-5pm-3/
ATTACH;FMTTYPE=image/png:https://mentonelsc.com/wp-content/uploads/2025/10/February-Summer-Sundays-Combined-for-Print-Poster-A2.png
END:VEVENT
BEGIN:VEVENT
DTSTART;TZID=Australia/Melbourne:20260226T173000
DTEND;TZID=Australia/Melbourne:20260226T210000
DTSTAMP:20260424T103111
CREATED:20260219T234414Z
LAST-MODIFIED:20260222T213144Z
UID:14356-1772127000-1772139600@mentonelsc.com
SUMMARY:Dinner and Drinks 5:30pm – 9pm
DESCRIPTION:Members: Book online using the link in the newsletter \nVisitors: Walk-ins are welcome
URL:https://mentonelsc.com/event/dinner-and-drinks-530pm-9pm-12/
ATTACH;FMTTYPE=image/jpeg:https://mentonelsc.com/wp-content/uploads/2024/10/Chicken-Salad-Dinner-scaled-e1771544589206.jpeg
END:VEVENT
BEGIN:VEVENT
DTSTART;TZID=Australia/Melbourne:20260227T080000
DTEND;TZID=Australia/Melbourne:20260227T180000
DTSTAMP:20260424T103111
CREATED:20260222T212452Z
LAST-MODIFIED:20260222T212452Z
UID:14372-1772179200-1772215200@mentonelsc.com
SUMMARY:Closed for a Private Function Until 6pm
DESCRIPTION:Closed for a private function until 6pm.
URL:https://mentonelsc.com/event/closed-for-a-private-function-until-6pm/
ATTACH;FMTTYPE=image/jpeg:https://mentonelsc.com/wp-content/uploads/2025/01/Closed-graphic-1-e1740718757775.jpg
END:VEVENT
BEGIN:VEVENT
DTSTART;TZID=Australia/Melbourne:20260227T180000
DTEND;TZID=Australia/Melbourne:20260227T210000
DTSTAMP:20260424T103111
CREATED:20260219T234652Z
LAST-MODIFIED:20260219T234652Z
UID:14358-1772215200-1772226000@mentonelsc.com
SUMMARY:Dinner and Drinks 6pm – 9pm
DESCRIPTION:Happy Hour 6-7pm
URL:https://mentonelsc.com/event/dinner-and-drinks-6pm-9pm/
ATTACH;FMTTYPE=image/jpeg:https://mentonelsc.com/wp-content/uploads/2025/09/Deck-meal-scaled-e1758774091127.jpg
END:VEVENT
BEGIN:VEVENT
DTSTART;TZID=Australia/Melbourne:20260301T080000
DTEND;TZID=Australia/Melbourne:20260301T150000
DTSTAMP:20260424T103111
CREATED:20260219T235129Z
LAST-MODIFIED:20260226T225125Z
UID:14360-1772352000-1772377200@mentonelsc.com
SUMMARY:Sunday Breakfast Only 8am-11am
DESCRIPTION:No bookings – Walk ins only
URL:https://mentonelsc.com/event/sunday-breakfast-and-lunch-8am-3pm/
ATTACH;FMTTYPE=image/png:https://mentonelsc.com/wp-content/uploads/2026/02/Copy-of-Breakfast-Only.png
END:VEVENT
BEGIN:VEVENT
DTSTART;TZID=Australia/Melbourne:20260305T173000
DTEND;TZID=Australia/Melbourne:20260305T210000
DTSTAMP:20260424T103111
CREATED:20260222T213910Z
LAST-MODIFIED:20260222T213910Z
UID:14375-1772731800-1772744400@mentonelsc.com
SUMMARY:Dinner and Drinks 5:30pm – 9pm
DESCRIPTION:Members: Book online using the link in the newsletter \nVisitors: Walk-ins are welcome
URL:https://mentonelsc.com/event/dinner-and-drinks-530pm-9pm-13/
ATTACH;FMTTYPE=image/jpeg:https://mentonelsc.com/wp-content/uploads/2025/10/IMG_0048-rotated-e1761766962481.jpg
END:VEVENT
BEGIN:VEVENT
DTSTART;TZID=Australia/Melbourne:20260306T170000
DTEND;TZID=Australia/Melbourne:20260306T210000
DTSTAMP:20260424T103111
CREATED:20260222T214025Z
LAST-MODIFIED:20260302T214219Z
UID:14378-1772816400-1772830800@mentonelsc.com
SUMMARY:Dinner and Drinks 5pm – 9pm
DESCRIPTION:Happy Hour 5-6pm
URL:https://mentonelsc.com/event/dinner-and-drinks-6pm-9pm-2/
ATTACH;FMTTYPE=image/jpeg:https://mentonelsc.com/wp-content/uploads/2025/10/Grilled-Chicken-Burger-e1761855352363.jpg
END:VEVENT
BEGIN:VEVENT
DTSTART;TZID=Australia/Melbourne:20260308T103000
DTEND;TZID=Australia/Melbourne:20260308T150000
DTSTAMP:20260424T103111
CREATED:20260222T214234Z
LAST-MODIFIED:20260305T033927Z
UID:14380-1772965800-1772982000@mentonelsc.com
SUMMARY:Sunday Breakfast and lunch 10:30am – 3pm
DESCRIPTION:No bookings – Walk ins only
URL:https://mentonelsc.com/event/sunday-breakfast-and-lunch-8am-3pm-2/
ATTACH;FMTTYPE=image/jpeg:https://mentonelsc.com/wp-content/uploads/2025/09/unnamed-scaled-e1758490463627.jpg
END:VEVENT
BEGIN:VEVENT
DTSTART;TZID=Australia/Melbourne:20260312T173000
DTEND;TZID=Australia/Melbourne:20260312T210000
DTSTAMP:20260424T103111
CREATED:20260222T214406Z
LAST-MODIFIED:20260222T214406Z
UID:14382-1773336600-1773349200@mentonelsc.com
SUMMARY:Dinner and Drinks 5:30pm – 9pm
DESCRIPTION:Members: Book online using the link in the newsletter \nVisitors: Walk-ins are welcome
URL:https://mentonelsc.com/event/dinner-and-drinks-530pm-9pm-14/
ATTACH;FMTTYPE=image/jpeg:https://mentonelsc.com/wp-content/uploads/2025/10/IMG_6775-scaled-e1763685894597.jpeg
END:VEVENT
BEGIN:VEVENT
DTSTART;TZID=Australia/Melbourne:20260313T170000
DTEND;TZID=Australia/Melbourne:20260313T210000
DTSTAMP:20260424T103111
CREATED:20260222T214521Z
LAST-MODIFIED:20260302T214401Z
UID:14384-1773421200-1773435600@mentonelsc.com
SUMMARY:Dinner and Drinks 5pm – 9pm
DESCRIPTION:Happy Hour 5-6pm
URL:https://mentonelsc.com/event/dinner-and-drinks-6pm-9pm-3/
ATTACH;FMTTYPE=image/jpeg:https://mentonelsc.com/wp-content/uploads/2025/10/IMG_6774-scaled-e1761768410583.jpeg
END:VEVENT
BEGIN:VEVENT
DTSTART;TZID=Australia/Melbourne:20260315T093000
DTEND;TZID=Australia/Melbourne:20260315T170000
DTSTAMP:20260424T103111
CREATED:20260222T215722Z
LAST-MODIFIED:20260311T023942Z
UID:14386-1773567000-1773594000@mentonelsc.com
SUMMARY:Sunday Breakfast / Lunch / Tapas and Live Music 9.30am-5pm
DESCRIPTION:No bookings – Walk ins only Tapas and Live Music from Will Paul 2-5pm
URL:https://mentonelsc.com/event/sunday-breakfast-lunch-tapas-and-live-music-8am-5pm-4/
ATTACH;FMTTYPE=image/jpeg:https://mentonelsc.com/wp-content/uploads/2026/02/William-Paul-Covers-e1734668989884.jpg
END:VEVENT
BEGIN:VEVENT
DTSTART;TZID=Australia/Melbourne:20260319T173000
DTEND;TZID=Australia/Melbourne:20260319T210000
DTSTAMP:20260424T103111
CREATED:20260222T220018Z
LAST-MODIFIED:20260222T220018Z
UID:14389-1773941400-1773954000@mentonelsc.com
SUMMARY:Dinner and Drinks 5:30pm – 9pm
DESCRIPTION:Members: Book online using the link in the newsletter \nVisitors: Walk-ins are welcome
URL:https://mentonelsc.com/event/dinner-and-drinks-530pm-9pm-15/
ATTACH;FMTTYPE=image/jpeg:https://mentonelsc.com/wp-content/uploads/2025/09/Chicken-Schnitzel-scaled-e1758488551452.jpeg
END:VEVENT
BEGIN:VEVENT
DTSTART;TZID=Australia/Melbourne:20260320T170000
DTEND;TZID=Australia/Melbourne:20260320T210000
DTSTAMP:20260424T103111
CREATED:20260222T220207Z
LAST-MODIFIED:20260302T214501Z
UID:14391-1774026000-1774040400@mentonelsc.com
SUMMARY:Dinner and Drinks 5pm – 9pm
DESCRIPTION:Happy Hour 5-6pm
URL:https://mentonelsc.com/event/dinner-and-drinks-6pm-9pm-4/
ATTACH;FMTTYPE=image/jpeg:https://mentonelsc.com/wp-content/uploads/2025/09/IMG_0042-1-e1758489309294.jpg
END:VEVENT
BEGIN:VEVENT
DTSTART;TZID=Australia/Melbourne:20260322T080000
DTEND;TZID=Australia/Melbourne:20260322T110000
DTSTAMP:20260424T103111
CREATED:20260222T221154Z
LAST-MODIFIED:20260316T030655Z
UID:14393-1774166400-1774177200@mentonelsc.com
SUMMARY:Sunday Breakfast Only 9am - 11am
DESCRIPTION:Breakfast only – function space booked from 11am \nNo bookings – walk ins only
URL:https://mentonelsc.com/event/sunday-breakfast-only-8am-11am-2/
ATTACH;FMTTYPE=image/jpeg:https://mentonelsc.com/wp-content/uploads/2025/09/IMG_6797-scaled-e1758490148533.jpeg
END:VEVENT
BEGIN:VEVENT
DTSTART;TZID=Australia/Melbourne:20260326T173000
DTEND;TZID=Australia/Melbourne:20260326T210000
DTSTAMP:20260424T103111
CREATED:20260222T221632Z
LAST-MODIFIED:20260222T221632Z
UID:14395-1774546200-1774558800@mentonelsc.com
SUMMARY:Dinner and Drinks 5:30pm – 9pm
DESCRIPTION:Members: Book online using the link in the newsletter \nVisitors: Walk-ins are welcome
URL:https://mentonelsc.com/event/dinner-and-drinks-530pm-9pm-16/
ATTACH;FMTTYPE=image/jpeg:https://mentonelsc.com/wp-content/uploads/2024/10/Chicken-Salad-Dinner-scaled-e1771544589206.jpeg
END:VEVENT
BEGIN:VEVENT
DTSTART;TZID=Australia/Melbourne:20260327T170000
DTEND;TZID=Australia/Melbourne:20260327T210000
DTSTAMP:20260424T103111
CREATED:20260222T221831Z
LAST-MODIFIED:20260302T214537Z
UID:14397-1774630800-1774645200@mentonelsc.com
SUMMARY:Dinner and Drinks 5pm – 9pm
DESCRIPTION:Happy Hour 5-6pm
URL:https://mentonelsc.com/event/dinner-and-drinks-6pm-9pm-5/
ATTACH;FMTTYPE=image/jpeg:https://mentonelsc.com/wp-content/uploads/2025/10/IMG_6775-scaled-e1763685894597.jpeg
END:VEVENT
BEGIN:VEVENT
DTSTART;TZID=Australia/Melbourne:20260329T090000
DTEND;TZID=Australia/Melbourne:20260329T170000
DTSTAMP:20260424T103111
CREATED:20260222T222613Z
LAST-MODIFIED:20260327T051755Z
UID:14399-1774774800-1774803600@mentonelsc.com
SUMMARY:Sunday Breakfast / Lunch / Tapas and Live Music 9am-5pm
DESCRIPTION:No bookings – Walk ins only Tapas and Live Music from The Side Project 2pm-5pm
URL:https://mentonelsc.com/event/sunday-breakfast-and-lunch-8am-3pm-3/
CATEGORIES:Bands by the Bay
ATTACH;FMTTYPE=image/png:https://mentonelsc.com/wp-content/uploads/2026/02/side-project-logo-white-border-e1774555043958.png
END:VEVENT
BEGIN:VEVENT
DTSTART;TZID=Australia/Melbourne:20260402T173000
DTEND;TZID=Australia/Melbourne:20260402T210000
DTSTAMP:20260424T103111
CREATED:20260222T222817Z
LAST-MODIFIED:20260222T223818Z
UID:14402-1775151000-1775163600@mentonelsc.com
SUMMARY:Dinner and Drinks 5:30pm – 9pm
DESCRIPTION:Last Thursday Dinner and Drinks of the season. \nMembers: Book online using the link in the newsletter \nVisitors: Walk-ins are welcome
URL:https://mentonelsc.com/event/dinner-and-drinks-530pm-9pm-17/
ATTACH;FMTTYPE=image/jpeg:https://mentonelsc.com/wp-content/uploads/2025/10/IMG_0048-rotated-e1761766962481.jpg
END:VEVENT
BEGIN:VEVENT
DTSTART;TZID=Australia/Melbourne:20260403T170000
DTEND;TZID=Australia/Melbourne:20260403T210000
DTSTAMP:20260424T103111
CREATED:20260222T223223Z
LAST-MODIFIED:20260222T223223Z
UID:14404-1775235600-1775250000@mentonelsc.com
SUMMARY:Good Friday Dinner – Pop Up Fish & Chip Shop 5pm-9pm
DESCRIPTION:Due to the Public Holiday\, happy hour will not be available. \nClick for SAMPLE MENU
URL:https://mentonelsc.com/event/good-friday-dinner-pop-up-fish-chip-shop-5pm-9pm/
ATTACH;FMTTYPE=image/jpeg:https://mentonelsc.com/wp-content/uploads/2025/09/Deck-meal-scaled-e1758774091127.jpg
END:VEVENT
BEGIN:VEVENT
DTSTART;VALUE=DATE:20260405
DTEND;VALUE=DATE:20260406
DTSTAMP:20260424T103111
CREATED:20260222T223514Z
LAST-MODIFIED:20260222T223514Z
UID:14407-1775347200-1775433599@mentonelsc.com
SUMMARY:Sunday CLOSED
DESCRIPTION:Closed over the Easter weekend.
URL:https://mentonelsc.com/event/sunday-closed-3/
ATTACH;FMTTYPE=image/jpeg:https://mentonelsc.com/wp-content/uploads/2025/01/Closed-graphic-1-e1740718757775.jpg
END:VEVENT
BEGIN:VEVENT
DTSTART;TZID=Australia/Melbourne:20260410T170000
DTEND;TZID=Australia/Melbourne:20260410T233000
DTSTAMP:20260424T103111
CREATED:20260222T224005Z
LAST-MODIFIED:20260407T085234Z
UID:14409-1775840400-1775863800@mentonelsc.com
SUMMARY:Fleetwood Max - SOLD OUT!
DESCRIPTION:Mentone LSC Bands by the Bay presents Fleetwood Max\n\nClick to find out more and buy tickets to Fleetwood Max\n\n\nABOUT\nNOTE: SOLD OUT EVENT – CLICK THE BOOKING LINK TO JOIN OUR WAITLIST \nCome and enjoy our premier event of the Winter Music Season with the amazing Fleetwood Max! \nTransporting you back to the golden era of California rock\, Fleetwood Max brings the magic of The Mac to life like never before with a cast of extraordinary musicians\, including the breathtaking vocals of Sue Jones and Jordan Z\, with stunning harmonies by Madison Edwards adding to the authenticity of the vocal sound. \nThe band features a world-class line-up of seasoned pros\, including Michael Uberti on lead guitar (Hydra – The Australian Toto Show)\, Rick Petropoulos on Bass (The Ferrets)\, Peter Valentine on keyboards (Burns\, Cotton & Morris\, Jon English\, Wendy Stapleton)\, and Fallon Williams iii on Drums (Steve Marriot’s Humble Pie\, Peter Frampton\, Bryan Adams). \nPerforming all the epic Fleetwood Mac and Stevie Nicks hits\, including “Go Your Own Way\,” “Dreams\,” “Gypsy\,” “Edge of Seventeen\,” “7 Wonders\,” “Stop Dragging My Heart Around\,” “The Chain\,” “Tusk\,” and many more\, Fleetwood Mac delivers an authentic and enchanting performance that will be hard to forget. Don’t miss the chance to see this incredible band! \nPerforming 2 sets between 8.15 and 10.30pm. \n\nMake a night of it:\n🍔 Food available from 5:00pm\n🍻 Happy Hour from 5:00pm – 6:00pm \n👉 Book a table for dinner before the show to guarantee seating:\nhttps://mentonelsc.com/kitchen-and-bar-events/ \n🎟 Band Tickets\n$36 per person\nStrictly 18+ event \n\n\nDATE \n\n\n\nFriday 10 April 2026 8:15 PM – 10:30 PM \n\nClick to see Fleetwood Max in action
URL:https://mentonelsc.com/event/dinner-and-drinks-6pm-9pm-6/
CATEGORIES:Bands by the Bay
ATTACH;FMTTYPE=image/png:https://mentonelsc.com/wp-content/uploads/2026/02/fleetwood-wide.png
END:VEVENT
BEGIN:VEVENT
DTSTART;TZID=Australia/Melbourne:20260417T170000
DTEND;TZID=Australia/Melbourne:20260417T210000
DTSTAMP:20260424T103111
CREATED:20260222T224416Z
LAST-MODIFIED:20260302T214835Z
UID:14415-1776445200-1776459600@mentonelsc.com
SUMMARY:Dinner and Drinks 5pm – 9pm
DESCRIPTION:Happy Hour 5-6pm
URL:https://mentonelsc.com/event/dinner-and-drinks-6pm-9pm-7/
ATTACH;FMTTYPE=image/jpeg:https://mentonelsc.com/wp-content/uploads/2025/09/IMG_0042-1-e1758489309294.jpg
END:VEVENT
BEGIN:VEVENT
DTSTART;TZID=Australia/Melbourne:20260424T170000
DTEND;TZID=Australia/Melbourne:20260424T210000
DTSTAMP:20260424T103111
CREATED:20260222T224702Z
LAST-MODIFIED:20260302T214918Z
UID:14419-1777050000-1777064400@mentonelsc.com
SUMMARY:Dinner and Drinks 5pm – 9pm
DESCRIPTION:Happy Hour 5-6pm
URL:https://mentonelsc.com/event/dinner-and-drinks-6pm-9pm-8/
ATTACH;FMTTYPE=image/jpeg:https://mentonelsc.com/wp-content/uploads/2025/09/Chicken-Schnitzel-scaled-e1758488551452.jpeg
END:VEVENT
BEGIN:VEVENT
DTSTART;TZID=Australia/Melbourne:20260424T170000
DTEND;TZID=Australia/Melbourne:20260424T230000
DTSTAMP:20260424T103111
CREATED:20260324T211842Z
LAST-MODIFIED:20260330T011631Z
UID:14666-1777050000-1777071600@mentonelsc.com
SUMMARY:The Two Dogs Band
DESCRIPTION:Mentone LSC Bands by the Bay presents The Two Dogs Band\nClick to find out more and buy tickets to The Two Dogs Band\n\n\nABOUT\nThe Two Dogs Band bring a mix of vintage rock\, blues and classic favourites – guaranteed to get the dancefloor going from 8:15pm through to 11:00pm. \nMake a night of it:\n🍔 Food available from 5:00pm\n🍻 Happy Hour from 5:00pm – 6:00pm \n👉 Book a table for dinner before the show:\nhttps://mentonelsc.com/kitchen-and-bar-events/ \n🎟 Band Tickets\n$10 per person\nStrictly 18+ event \nDATE \n\n\nFriday 24 April 2026 8:15 PM – 11 PM \n\nClick to find out more about The Two Dogs Band
URL:https://mentonelsc.com/event/two-dogs-band/
CATEGORIES:Bands by the Bay
ATTACH;FMTTYPE=image/png:https://mentonelsc.com/wp-content/uploads/2026/03/the-two-dogs-wide.png
END:VEVENT
BEGIN:VEVENT
DTSTART;TZID=Australia/Melbourne:20260425T120000
DTEND;TZID=Australia/Melbourne:20260425T170000
DTSTAMP:20260424T103111
CREATED:20260419T203946Z
LAST-MODIFIED:20260419T203946Z
UID:14976-1777118400-1777136400@mentonelsc.com
SUMMARY:ANZAC Day Lunch 12pm
DESCRIPTION:This ANZAC Day\, Saturday 25th April\, we pause to reflect\, remember and honour those who have served.\n\n\nWe will be open for lunch from 12pm at Mentone Life Saving Club.\n\n\nJoin us for a relaxed meal by the bay – a chance to come together with family\, friends and the community.\n\n\nAll are welcome.\n\n\nLest We Forget.
URL:https://mentonelsc.com/event/anzac-day-lunch-12pm/
ATTACH;FMTTYPE=image/png:https://mentonelsc.com/wp-content/uploads/2026/04/Anzac-Day-Lunch3.png
END:VEVENT
END:VCALENDAR