BEGIN:VCALENDAR
VERSION:2.0
PRODID:-//Mentone Life Saving Club - ECPv6.15.20//NONSGML v1.0//EN
CALSCALE:GREGORIAN
METHOD:PUBLISH
X-ORIGINAL-URL:https://mentonelsc.com
X-WR-CALDESC:Events for Mentone Life Saving Club
REFRESH-INTERVAL;VALUE=DURATION:PT1H
X-Robots-Tag:noindex
X-PUBLISHED-TTL:PT1H
BEGIN:VTIMEZONE
TZID:Australia/Melbourne
BEGIN:STANDARD
TZOFFSETFROM:+1100
TZOFFSETTO:+1000
TZNAME:AEST
DTSTART:20230401T160000
END:STANDARD
BEGIN:DAYLIGHT
TZOFFSETFROM:+1000
TZOFFSETTO:+1100
TZNAME:AEDT
DTSTART:20230930T160000
END:DAYLIGHT
BEGIN:STANDARD
TZOFFSETFROM:+1100
TZOFFSETTO:+1000
TZNAME:AEST
DTSTART:20240406T160000
END:STANDARD
BEGIN:DAYLIGHT
TZOFFSETFROM:+1000
TZOFFSETTO:+1100
TZNAME:AEDT
DTSTART:20241005T160000
END:DAYLIGHT
BEGIN:STANDARD
TZOFFSETFROM:+1100
TZOFFSETTO:+1000
TZNAME:AEST
DTSTART:20250405T160000
END:STANDARD
BEGIN:DAYLIGHT
TZOFFSETFROM:+1000
TZOFFSETTO:+1100
TZNAME:AEDT
DTSTART:20251004T160000
END:DAYLIGHT
BEGIN:STANDARD
TZOFFSETFROM:+1100
TZOFFSETTO:+1000
TZNAME:AEST
DTSTART:20260404T160000
END:STANDARD
BEGIN:DAYLIGHT
TZOFFSETFROM:+1000
TZOFFSETTO:+1100
TZNAME:AEDT
DTSTART:20261003T160000
END:DAYLIGHT
END:VTIMEZONE
BEGIN:VEVENT
DTSTART;TZID=Australia/Melbourne:20241128T170000
DTEND;TZID=Australia/Melbourne:20241128T210000
DTSTAMP:20260425T235312
CREATED:20241018T003217Z
LAST-MODIFIED:20241028T030251Z
UID:9929-1732813200-1732827600@mentonelsc.com
SUMMARY:Thursday Dinner 5pm-9pm
DESCRIPTION:New Summer Menu
URL:https://mentonelsc.com/event/thursday-dinner-7/
ATTACH;FMTTYPE=image/jpeg:https://mentonelsc.com/wp-content/uploads/2024/06/Burger-for-marketing-e1729192332843.jpg
END:VEVENT
BEGIN:VEVENT
DTSTART;TZID=Australia/Melbourne:20241129T170000
DTEND;TZID=Australia/Melbourne:20241129T210000
DTSTAMP:20260425T235312
CREATED:20241018T003724Z
LAST-MODIFIED:20241028T030241Z
UID:9931-1732899600-1732914000@mentonelsc.com
SUMMARY:Friday Dinner 5pm-9pm
DESCRIPTION:Happy Hour 5pm-6pm
URL:https://mentonelsc.com/event/friday-dinner-7/
ATTACH;FMTTYPE=image/jpeg:https://mentonelsc.com/wp-content/uploads/2023/10/Resized_20230929_175720-e1729211830787.jpeg
END:VEVENT
BEGIN:VEVENT
DTSTART;TZID=Australia/Melbourne:20241201T080000
DTEND;TZID=Australia/Melbourne:20241201T140000
DTSTAMP:20260425T235312
CREATED:20241018T010458Z
LAST-MODIFIED:20241104T061155Z
UID:9933-1733040000-1733061600@mentonelsc.com
SUMMARY:Sunday Breakfast Only 8am-11am
DESCRIPTION:Breakfast only – function space booked from 11am \nNo bookings – walk ins only
URL:https://mentonelsc.com/event/sunday-breakfast-and-lunch-7/
ATTACH;FMTTYPE=image/jpeg:https://mentonelsc.com/wp-content/uploads/2024/08/unsplash-image-nzyzAUsbV0M.jpg
END:VEVENT
BEGIN:VEVENT
DTSTART;TZID=Australia/Melbourne:20241205T170000
DTEND;TZID=Australia/Melbourne:20241205T210000
DTSTAMP:20260425T235312
CREATED:20241018T012119Z
LAST-MODIFIED:20241028T030217Z
UID:9939-1733418000-1733432400@mentonelsc.com
SUMMARY:Thursday Dinner 5pm-9pm
DESCRIPTION:New Summer Menu
URL:https://mentonelsc.com/event/thursday-dinner-8/
ATTACH;FMTTYPE=image/png:https://mentonelsc.com/wp-content/uploads/2024/09/Chicken-Parma-e1737504434548.png
END:VEVENT
BEGIN:VEVENT
DTSTART;TZID=Australia/Melbourne:20241206T170000
DTEND;TZID=Australia/Melbourne:20241206T210000
DTSTAMP:20260425T235312
CREATED:20241018T012505Z
LAST-MODIFIED:20241028T030155Z
UID:9941-1733504400-1733518800@mentonelsc.com
SUMMARY:Friday Dinner 5pm-9pm
DESCRIPTION:Happy Hour 5pm-6pm
URL:https://mentonelsc.com/event/friday-dinner-8/
ATTACH;FMTTYPE=image/jpeg:https://mentonelsc.com/wp-content/uploads/2024/06/Cocktail_1-1-scaled-e1765502454496.jpg
END:VEVENT
BEGIN:VEVENT
DTSTART;TZID=Australia/Melbourne:20241208T080000
DTEND;TZID=Australia/Melbourne:20241208T150000
DTSTAMP:20260425T235312
CREATED:20241018T013618Z
LAST-MODIFIED:20241028T030055Z
UID:9945-1733644800-1733670000@mentonelsc.com
SUMMARY:Sunday Breakfast and Lunch 8am-2pm
DESCRIPTION:No bookings – walk ins only
URL:https://mentonelsc.com/event/sunday-breakfast-and-lunch-8/
ATTACH;FMTTYPE=image/jpeg:https://mentonelsc.com/wp-content/uploads/2024/01/MentoneLSC_001-e1729209368268.jpg
END:VEVENT
BEGIN:VEVENT
DTSTART;TZID=Australia/Melbourne:20241212T170000
DTEND;TZID=Australia/Melbourne:20241212T210000
DTSTAMP:20260425T235312
CREATED:20241119T235227Z
LAST-MODIFIED:20241120T014627Z
UID:10530-1734022800-1734037200@mentonelsc.com
SUMMARY:Thursday Dinner 5pm-9pm
DESCRIPTION:New Summer Menu
URL:https://mentonelsc.com/event/thursday-dinner-5pm-9pm/
ATTACH;FMTTYPE=image/jpeg:https://mentonelsc.com/wp-content/uploads/2024/10/Chicken-Salad-Dinner-scaled-e1771544589206.jpeg
END:VEVENT
BEGIN:VEVENT
DTSTART;TZID=Australia/Melbourne:20241213T170000
DTEND;TZID=Australia/Melbourne:20241213T210000
DTSTAMP:20260425T235312
CREATED:20241119T235956Z
LAST-MODIFIED:20241119T235956Z
UID:10532-1734109200-1734123600@mentonelsc.com
SUMMARY:Friday Dinner 5pm-9pm
DESCRIPTION:Happy Hour 5pm-6pm
URL:https://mentonelsc.com/event/friday-dinner-5pm-9pm/
ATTACH;FMTTYPE=image/jpeg:https://mentonelsc.com/wp-content/uploads/2024/01/MentoneLSC_015-e1759877613488.jpg
END:VEVENT
BEGIN:VEVENT
DTSTART;TZID=Australia/Melbourne:20241215T090000
DTEND;TZID=Australia/Melbourne:20241215T140000
DTSTAMP:20260425T235312
CREATED:20241120T001014Z
LAST-MODIFIED:20241120T001014Z
UID:10535-1734253200-1734271200@mentonelsc.com
SUMMARY:Sunday Breakfast/Lunch 8am-2pm
DESCRIPTION:No Bookings – Walk-ins Only
URL:https://mentonelsc.com/event/sunday-breakfast-lunch-8am-2pm/
ATTACH;FMTTYPE=image/jpeg:https://mentonelsc.com/wp-content/uploads/2024/10/unnamed-scaled-e1732061206602.jpg
END:VEVENT
BEGIN:VEVENT
DTSTART;TZID=Australia/Melbourne:20241219T170000
DTEND;TZID=Australia/Melbourne:20241219T210000
DTSTAMP:20260425T235312
CREATED:20241120T002312Z
LAST-MODIFIED:20241120T002312Z
UID:10537-1734627600-1734642000@mentonelsc.com
SUMMARY:Thursday Dinner 5pm-9pm
DESCRIPTION:New Summer Menu
URL:https://mentonelsc.com/event/thursday-dinner-5pm-9pm-2/
ATTACH;FMTTYPE=image/jpeg:https://mentonelsc.com/wp-content/uploads/2024/06/Burger-for-marketing-e1729192332843.jpg
END:VEVENT
BEGIN:VEVENT
DTSTART;TZID=Australia/Melbourne:20241220T170000
DTEND;TZID=Australia/Melbourne:20241220T210000
DTSTAMP:20260425T235312
CREATED:20241120T002553Z
LAST-MODIFIED:20241120T002553Z
UID:10539-1734714000-1734728400@mentonelsc.com
SUMMARY:Friday Dinner 5pm-9pm
DESCRIPTION:Happy Hour 5pm-6pm
URL:https://mentonelsc.com/event/friday-dinner-5pm-9pm-2/
ATTACH;FMTTYPE=image/jpeg:https://mentonelsc.com/wp-content/uploads/2023/08/MLSC-Purple-sunset-e1732062344806.jpeg
END:VEVENT
BEGIN:VEVENT
DTSTART;TZID=Australia/Melbourne:20241222T080000
DTEND;TZID=Australia/Melbourne:20241222T180000
DTSTAMP:20260425T235312
CREATED:20241120T002851Z
LAST-MODIFIED:20241218T223737Z
UID:10543-1734854400-1734890400@mentonelsc.com
SUMMARY:Sunday Breakfast/Lunch/Music 8am-6pm
DESCRIPTION:2pm-5pm Live Music by William Paul – No Bookings – Walk-ins Only
URL:https://mentonelsc.com/event/sunday-breakfast-lunch-8am-2pm-2/
ATTACH;FMTTYPE=image/jpeg:https://mentonelsc.com/wp-content/uploads/2024/11/William-Paul-Covers-e1734668989884.jpg
END:VEVENT
BEGIN:VEVENT
DTSTART;VALUE=DATE:20241225
DTEND;VALUE=DATE:20241226
DTSTAMP:20260425T235312
CREATED:20241120T013250Z
LAST-MODIFIED:20241120T013250Z
UID:10546-1735084800-1735171199@mentonelsc.com
SUMMARY:Christmas Day CLOSED
DESCRIPTION:Closed on Christmas Day
URL:https://mentonelsc.com/event/christmas-day-closed/
ATTACH;FMTTYPE=image/jpeg:https://mentonelsc.com/wp-content/uploads/2024/11/Closed-Santa-e1734641606397.jpg
END:VEVENT
BEGIN:VEVENT
DTSTART;VALUE=DATE:20241226
DTEND;VALUE=DATE:20241227
DTSTAMP:20260425T235312
CREATED:20241120T013343Z
LAST-MODIFIED:20241120T013343Z
UID:10549-1735171200-1735257599@mentonelsc.com
SUMMARY:Boxing Day CLOSED
DESCRIPTION:Closed on Boxing Day
URL:https://mentonelsc.com/event/boxing-day-closed/
ATTACH;FMTTYPE=image/jpeg:https://mentonelsc.com/wp-content/uploads/2024/11/Closed-Santa-e1734641606397.jpg
END:VEVENT
BEGIN:VEVENT
DTSTART;VALUE=DATE:20241227
DTEND;VALUE=DATE:20241228
DTSTAMP:20260425T235312
CREATED:20241120T013655Z
LAST-MODIFIED:20241120T013655Z
UID:10551-1735257600-1735343999@mentonelsc.com
SUMMARY:Friday Closed for Function
DESCRIPTION:The club is closed for a private function
URL:https://mentonelsc.com/event/friday-closed-for-function/
ATTACH;FMTTYPE=image/jpeg:https://mentonelsc.com/wp-content/uploads/2024/01/MentoneLSC_001-e1729209368268.jpg
END:VEVENT
BEGIN:VEVENT
DTSTART;TZID=Australia/Melbourne:20241229T080000
DTEND;TZID=Australia/Melbourne:20241229T140000
DTSTAMP:20260425T235312
CREATED:20241120T014020Z
LAST-MODIFIED:20241222T201524Z
UID:10553-1735459200-1735480800@mentonelsc.com
SUMMARY:Sunday Closed
DESCRIPTION:Sunday Bar and Restaurant Closed – Kiosk Open go to the Kiosk page for more information 
URL:https://mentonelsc.com/event/sunday-closed/
ATTACH;FMTTYPE=image/jpeg:https://mentonelsc.com/wp-content/uploads/2024/11/Closed-Santa-e1734641606397.jpg
END:VEVENT
BEGIN:VEVENT
DTSTART;TZID=Australia/Melbourne:20250102T170000
DTEND;TZID=Australia/Melbourne:20250102T210000
DTSTAMP:20260425T235312
CREATED:20241120T014230Z
LAST-MODIFIED:20241120T014230Z
UID:10555-1735837200-1735851600@mentonelsc.com
SUMMARY:Thursday Dinner 5pm-9pm
DESCRIPTION:New Summer Menu
URL:https://mentonelsc.com/event/thursday-dinner-5pm-9pm-3/
ATTACH;FMTTYPE=image/png:https://mentonelsc.com/wp-content/uploads/2024/09/Chicken-Parma-e1737504434548.png
END:VEVENT
BEGIN:VEVENT
DTSTART;TZID=Australia/Melbourne:20250103T170000
DTEND;TZID=Australia/Melbourne:20250103T210000
DTSTAMP:20260425T235312
CREATED:20241120T014414Z
LAST-MODIFIED:20241120T014414Z
UID:10557-1735923600-1735938000@mentonelsc.com
SUMMARY:Friday Dinner 5pm-9pm
DESCRIPTION:Happy Hour 5pm-6pm
URL:https://mentonelsc.com/event/friday-dinner-5pm-9pm-3/
ATTACH;FMTTYPE=image/jpeg:https://mentonelsc.com/wp-content/uploads/2024/10/IMG_2686-2-e1752713810717.jpg
END:VEVENT
BEGIN:VEVENT
DTSTART;TZID=Australia/Melbourne:20250105T080000
DTEND;TZID=Australia/Melbourne:20250105T180000
DTSTAMP:20260425T235312
CREATED:20241212T001736Z
LAST-MODIFIED:20241212T001748Z
UID:10783-1736064000-1736100000@mentonelsc.com
SUMMARY:Sunday Breakfast/Lunch/Music 8am-6pm
DESCRIPTION:No Bookings – Walk-ins Only
URL:https://mentonelsc.com/event/sunday-breakfast-lunch-music-8am-6pm/
ATTACH;FMTTYPE=image/jpeg:https://mentonelsc.com/wp-content/uploads/2024/08/Image-1-scaled-e1729193667861.jpg
END:VEVENT
BEGIN:VEVENT
DTSTART;TZID=Australia/Melbourne:20250109T170000
DTEND;TZID=Australia/Melbourne:20250109T210000
DTSTAMP:20260425T235312
CREATED:20241212T002011Z
LAST-MODIFIED:20241212T002011Z
UID:10785-1736442000-1736456400@mentonelsc.com
SUMMARY:Thursday Dinner 5pm-9pm
DESCRIPTION:New Summer Menu
URL:https://mentonelsc.com/event/thursday-dinner-5pm-9pm-4/
ATTACH;FMTTYPE=image/jpeg:https://mentonelsc.com/wp-content/uploads/2024/06/Burger-for-marketing-e1729192332843.jpg
END:VEVENT
BEGIN:VEVENT
DTSTART;TZID=Australia/Melbourne:20250110T170000
DTEND;TZID=Australia/Melbourne:20250110T210000
DTSTAMP:20260425T235312
CREATED:20241212T002232Z
LAST-MODIFIED:20241212T002232Z
UID:10787-1736528400-1736542800@mentonelsc.com
SUMMARY:Friday Dinner 5pm-9pm
DESCRIPTION:Happy Hour 5pm-6pm
URL:https://mentonelsc.com/event/friday-dinner-5pm-9pm-4/
ATTACH;FMTTYPE=image/jpeg:https://mentonelsc.com/wp-content/uploads/2024/06/Cocktail_1-1-scaled-e1765502454496.jpg
END:VEVENT
BEGIN:VEVENT
DTSTART;TZID=Australia/Melbourne:20250112T080000
DTEND;TZID=Australia/Melbourne:20250112T180000
DTSTAMP:20260425T235312
CREATED:20241212T002931Z
LAST-MODIFIED:20250106T223141Z
UID:10789-1736668800-1736704800@mentonelsc.com
SUMMARY:Sunday Breakfast/Lunch/Music 8am-6pm
DESCRIPTION:No Bookings – Walk-ins Only – James Williams playing from 2-5pm
URL:https://mentonelsc.com/event/sunday-breakfast-lunch-music-8am-6pm-2/
ATTACH;FMTTYPE=image/jpeg:https://mentonelsc.com/wp-content/uploads/2024/12/James-Williams.jpg
END:VEVENT
BEGIN:VEVENT
DTSTART;TZID=Australia/Melbourne:20250116T170000
DTEND;TZID=Australia/Melbourne:20250116T210000
DTSTAMP:20260425T235312
CREATED:20241212T003242Z
LAST-MODIFIED:20241212T003242Z
UID:10791-1737046800-1737061200@mentonelsc.com
SUMMARY:Thursday Dinner 5pm-9pm
DESCRIPTION:New Summer Menu
URL:https://mentonelsc.com/event/thursday-dinner-5pm-9pm-5/
ATTACH;FMTTYPE=image/jpeg:https://mentonelsc.com/wp-content/uploads/2024/10/Chicken-Salad-Dinner-scaled-e1771544589206.jpeg
END:VEVENT
BEGIN:VEVENT
DTSTART;TZID=Australia/Melbourne:20250117T170000
DTEND;TZID=Australia/Melbourne:20250117T210000
DTSTAMP:20260425T235312
CREATED:20241212T003523Z
LAST-MODIFIED:20241212T003523Z
UID:10793-1737133200-1737147600@mentonelsc.com
SUMMARY:Friday Dinner 5pm-9pm
DESCRIPTION:Happy Hour 5pm-6pm
URL:https://mentonelsc.com/event/friday-dinner-5pm-9pm-5/
ATTACH;FMTTYPE=image/jpeg:https://mentonelsc.com/wp-content/uploads/2024/01/IMG_4723-1-e1729209181588.jpg
END:VEVENT
BEGIN:VEVENT
DTSTART;TZID=Australia/Melbourne:20250119T080000
DTEND;TZID=Australia/Melbourne:20250119T140000
DTSTAMP:20260425T235312
CREATED:20241212T004133Z
LAST-MODIFIED:20250113T073350Z
UID:10795-1737273600-1737295200@mentonelsc.com
SUMMARY:Sunday Breakfast 8-11am / Special Seafood Lunch starts at 12pm
DESCRIPTION:Breakfast – Walk-ins Only —– Menu for the Special Seafood Lunch below BOOK HERE for the Special Seafood Lunch
URL:https://mentonelsc.com/event/sunday-breakfast-lunch-8am-2pm-3/
ATTACH;FMTTYPE=image/png:https://mentonelsc.com/wp-content/uploads/2025/01/seafood-e1736561930613.png
END:VEVENT
BEGIN:VEVENT
DTSTART;TZID=Australia/Melbourne:20250123T170000
DTEND;TZID=Australia/Melbourne:20250123T210000
DTSTAMP:20260425T235312
CREATED:20241212T004549Z
LAST-MODIFIED:20241212T004549Z
UID:10797-1737651600-1737666000@mentonelsc.com
SUMMARY:Thursday Dinner 5pm-9pm
DESCRIPTION:New Summer Menu
URL:https://mentonelsc.com/event/thursday-dinner-5pm-9pm-6/
ATTACH;FMTTYPE=image/png:https://mentonelsc.com/wp-content/uploads/2024/09/Chicken-Parma-e1737504434548.png
END:VEVENT
BEGIN:VEVENT
DTSTART;TZID=Australia/Melbourne:20250124T170000
DTEND;TZID=Australia/Melbourne:20250124T180000
DTSTAMP:20260425T235312
CREATED:20241212T004743Z
LAST-MODIFIED:20241212T005447Z
UID:10799-1737738000-1737741600@mentonelsc.com
SUMMARY:Friday Dinner 5pm-9pm
DESCRIPTION:Happy Hour 5pm-6pm
URL:https://mentonelsc.com/event/friday-5pm-9pm/
ATTACH;FMTTYPE=image/jpeg:https://mentonelsc.com/wp-content/uploads/2024/01/MentoneLSC_015-e1759877613488.jpg
END:VEVENT
BEGIN:VEVENT
DTSTART;TZID=Australia/Melbourne:20250126T080000
DTEND;TZID=Australia/Melbourne:20250126T110000
DTSTAMP:20260425T235312
CREATED:20241212T004952Z
LAST-MODIFIED:20241212T004952Z
UID:10801-1737878400-1737889200@mentonelsc.com
SUMMARY:Sunday Breakfast Only 8am-11am
DESCRIPTION:No Bookings – Walk-ins Only
URL:https://mentonelsc.com/event/sunday-breakfast-only-8am-11am/
ATTACH;FMTTYPE=image/jpeg:https://mentonelsc.com/wp-content/uploads/2024/10/unnamed-scaled-e1732061206602.jpg
END:VEVENT
BEGIN:VEVENT
DTSTART;TZID=Australia/Melbourne:20250130T170000
DTEND;TZID=Australia/Melbourne:20250130T210000
DTSTAMP:20260425T235312
CREATED:20241212T005112Z
LAST-MODIFIED:20241212T005112Z
UID:10803-1738256400-1738270800@mentonelsc.com
SUMMARY:Thursday Dinner 5pm-9pm
DESCRIPTION:New Summer Menu
URL:https://mentonelsc.com/event/thursday-dinner-5pm-9pm-7/
ATTACH;FMTTYPE=image/jpeg:https://mentonelsc.com/wp-content/uploads/2024/10/IMG_2686-2-e1752713810717.jpg
END:VEVENT
BEGIN:VEVENT
DTSTART;TZID=Australia/Melbourne:20250131T170000
DTEND;TZID=Australia/Melbourne:20250131T210000
DTSTAMP:20260425T235312
CREATED:20241212T005315Z
LAST-MODIFIED:20241212T005315Z
UID:10805-1738342800-1738357200@mentonelsc.com
SUMMARY:Friday Dinner 5pm-9pm
DESCRIPTION:Happy Hour 5pm-6pm
URL:https://mentonelsc.com/event/friday-dinner-5pm-9pm-6/
ATTACH;FMTTYPE=image/jpeg:https://mentonelsc.com/wp-content/uploads/2024/01/MentoneLSC_001-e1729209368268.jpg
END:VEVENT
END:VCALENDAR