BEGIN:VCALENDAR
VERSION:2.0
PRODID:-//Mentone Life Saving Club - ECPv6.15.20//NONSGML v1.0//EN
CALSCALE:GREGORIAN
METHOD:PUBLISH
X-WR-CALNAME:Mentone Life Saving Club
X-ORIGINAL-URL:https://mentonelsc.com
X-WR-CALDESC:Events for Mentone Life Saving Club
REFRESH-INTERVAL;VALUE=DURATION:PT1H
X-Robots-Tag:noindex
X-PUBLISHED-TTL:PT1H
BEGIN:VTIMEZONE
TZID:Australia/Melbourne
BEGIN:STANDARD
TZOFFSETFROM:+1100
TZOFFSETTO:+1000
TZNAME:AEST
DTSTART:20230401T160000
END:STANDARD
BEGIN:DAYLIGHT
TZOFFSETFROM:+1000
TZOFFSETTO:+1100
TZNAME:AEDT
DTSTART:20230930T160000
END:DAYLIGHT
BEGIN:STANDARD
TZOFFSETFROM:+1100
TZOFFSETTO:+1000
TZNAME:AEST
DTSTART:20240406T160000
END:STANDARD
BEGIN:DAYLIGHT
TZOFFSETFROM:+1000
TZOFFSETTO:+1100
TZNAME:AEDT
DTSTART:20241005T160000
END:DAYLIGHT
BEGIN:STANDARD
TZOFFSETFROM:+1100
TZOFFSETTO:+1000
TZNAME:AEST
DTSTART:20250405T160000
END:STANDARD
BEGIN:DAYLIGHT
TZOFFSETFROM:+1000
TZOFFSETTO:+1100
TZNAME:AEDT
DTSTART:20251004T160000
END:DAYLIGHT
END:VTIMEZONE
BEGIN:VEVENT
DTSTART;TZID=Australia/Melbourne:20241025T170000
DTEND;TZID=Australia/Melbourne:20241025T210000
DTSTAMP:20260425T211557
CREATED:20241017T193005Z
LAST-MODIFIED:20241017T193131Z
UID:9858-1729875600-1729890000@mentonelsc.com
SUMMARY:Friday Dinner
DESCRIPTION:Happy Hour 5pm-6pm
URL:https://mentonelsc.com/event/friday-dinner-2/
ATTACH;FMTTYPE=image/jpeg:https://mentonelsc.com/wp-content/uploads/2024/10/IMG_2686-2-e1752713810717.jpg
END:VEVENT
BEGIN:VEVENT
DTSTART;TZID=Australia/Melbourne:20241024T170000
DTEND;TZID=Australia/Melbourne:20241024T210000
DTSTAMP:20260425T211557
CREATED:20241017T191248Z
LAST-MODIFIED:20241017T192323Z
UID:9855-1729789200-1729803600@mentonelsc.com
SUMMARY:Thursday Dinner
DESCRIPTION:New Summer Menu
URL:https://mentonelsc.com/event/thursday-dinner-2/
ATTACH;FMTTYPE=image/jpeg:https://mentonelsc.com/wp-content/uploads/2024/06/Burger-for-marketing-e1729192332843.jpg
END:VEVENT
BEGIN:VEVENT
DTSTART;TZID=Australia/Melbourne:20241020T080000
DTEND;TZID=Australia/Melbourne:20241020T140000
DTSTAMP:20260425T211557
CREATED:20241017T190830Z
LAST-MODIFIED:20241017T190830Z
UID:9853-1729411200-1729432800@mentonelsc.com
SUMMARY:Sunday Breakfast and Lunch
DESCRIPTION:No booking – walk ins only
URL:https://mentonelsc.com/event/sunday-breakfast-and-lunch/
ATTACH;FMTTYPE=image/jpeg:https://mentonelsc.com/wp-content/uploads/2024/10/unnamed-scaled-e1732061206602.jpg
END:VEVENT
BEGIN:VEVENT
DTSTART;TZID=Australia/Melbourne:20241018T170000
DTEND;TZID=Australia/Melbourne:20241018T210000
DTSTAMP:20260425T211557
CREATED:20241017T185443Z
LAST-MODIFIED:20241017T190353Z
UID:9845-1729270800-1729285200@mentonelsc.com
SUMMARY:Friday Dinner
DESCRIPTION:Happy Hour 5pm-6pm
URL:https://mentonelsc.com/event/friday-dinner/
END:VEVENT
BEGIN:VEVENT
DTSTART;TZID=Australia/Melbourne:20241017T050000
DTEND;TZID=Australia/Melbourne:20241017T210000
DTSTAMP:20260425T211557
CREATED:20241017T035523Z
LAST-MODIFIED:20241017T185108Z
UID:9813-1729141200-1729198800@mentonelsc.com
SUMMARY:Thursday Dinner
DESCRIPTION:New Summer Menu
URL:https://mentonelsc.com/event/thursday-dinner/
ATTACH;FMTTYPE=image/png:https://mentonelsc.com/wp-content/uploads/2024/09/Chicken-Parma-e1737504434548.png
END:VEVENT
END:VCALENDAR