BEGIN:VCALENDAR
VERSION:2.0
PRODID:-//Mentone Life Saving Club - ECPv6.15.20//NONSGML v1.0//EN
CALSCALE:GREGORIAN
METHOD:PUBLISH
X-ORIGINAL-URL:https://mentonelsc.com
X-WR-CALDESC:Events for Mentone Life Saving Club
REFRESH-INTERVAL;VALUE=DURATION:PT1H
X-Robots-Tag:noindex
X-PUBLISHED-TTL:PT1H
BEGIN:VTIMEZONE
TZID:Australia/Melbourne
BEGIN:STANDARD
TZOFFSETFROM:+1100
TZOFFSETTO:+1000
TZNAME:AEST
DTSTART:20240406T160000
END:STANDARD
BEGIN:DAYLIGHT
TZOFFSETFROM:+1000
TZOFFSETTO:+1100
TZNAME:AEDT
DTSTART:20241005T160000
END:DAYLIGHT
BEGIN:STANDARD
TZOFFSETFROM:+1100
TZOFFSETTO:+1000
TZNAME:AEST
DTSTART:20250405T160000
END:STANDARD
BEGIN:DAYLIGHT
TZOFFSETFROM:+1000
TZOFFSETTO:+1100
TZNAME:AEDT
DTSTART:20251004T160000
END:DAYLIGHT
BEGIN:STANDARD
TZOFFSETFROM:+1100
TZOFFSETTO:+1000
TZNAME:AEST
DTSTART:20260404T160000
END:STANDARD
BEGIN:DAYLIGHT
TZOFFSETFROM:+1000
TZOFFSETTO:+1100
TZNAME:AEDT
DTSTART:20261003T160000
END:DAYLIGHT
END:VTIMEZONE
BEGIN:VEVENT
DTSTART;TZID=Australia/Melbourne:20250131T170000
DTEND;TZID=Australia/Melbourne:20250131T210000
DTSTAMP:20260426T024923
CREATED:20241212T005315Z
LAST-MODIFIED:20241212T005315Z
UID:10805-1738342800-1738357200@mentonelsc.com
SUMMARY:Friday Dinner 5pm-9pm
DESCRIPTION:Happy Hour 5pm-6pm
URL:https://mentonelsc.com/event/friday-dinner-5pm-9pm-6/
ATTACH;FMTTYPE=image/jpeg:https://mentonelsc.com/wp-content/uploads/2024/01/MentoneLSC_001-e1729209368268.jpg
END:VEVENT
BEGIN:VEVENT
DTSTART;TZID=Australia/Melbourne:20250202T080000
DTEND;TZID=Australia/Melbourne:20250202T140000
DTSTAMP:20260426T024923
CREATED:20250121T225451Z
LAST-MODIFIED:20250121T225451Z
UID:11292-1738483200-1738504800@mentonelsc.com
SUMMARY:Sunday Breakfast/Lunch 8am-2pm
DESCRIPTION:No Bookings – Walk-ins Only
URL:https://mentonelsc.com/event/sunday-breakfast-lunch-8am-2pm-4/
ATTACH;FMTTYPE=image/jpeg:https://mentonelsc.com/wp-content/uploads/2024/08/unsplash-image-nzyzAUsbV0M.jpg
END:VEVENT
BEGIN:VEVENT
DTSTART;TZID=Australia/Melbourne:20250206T170000
DTEND;TZID=Australia/Melbourne:20250206T210000
DTSTAMP:20260426T024923
CREATED:20250121T225712Z
LAST-MODIFIED:20250121T225712Z
UID:11294-1738861200-1738875600@mentonelsc.com
SUMMARY:Thursday Dinner 5pm-9pm
DESCRIPTION:New Summer Menu
URL:https://mentonelsc.com/event/thursday-dinner-5pm-9pm-8/
ATTACH;FMTTYPE=image/jpeg:https://mentonelsc.com/wp-content/uploads/2024/06/Burger-for-marketing-e1729192332843.jpg
END:VEVENT
BEGIN:VEVENT
DTSTART;TZID=Australia/Melbourne:20250207T170000
DTEND;TZID=Australia/Melbourne:20250207T210000
DTSTAMP:20260426T024923
CREATED:20250121T230006Z
LAST-MODIFIED:20250121T230006Z
UID:11296-1738947600-1738962000@mentonelsc.com
SUMMARY:Friday Dinner 5pm-9pm
DESCRIPTION:Happy Hour 5pm-6pm
URL:https://mentonelsc.com/event/friday-dinner-5pm-9pm-7/
END:VEVENT
BEGIN:VEVENT
DTSTART;TZID=Australia/Melbourne:20250209T080000
DTEND;TZID=Australia/Melbourne:20250209T140000
DTSTAMP:20260426T024923
CREATED:20250121T233257Z
LAST-MODIFIED:20250130T224203Z
UID:11298-1739088000-1739109600@mentonelsc.com
SUMMARY:Sunday Breakfast/Lunch 11am-2pm
DESCRIPTION:Beach Road Closed until 11am for an event – No Bookings\, Walk-ins Only
URL:https://mentonelsc.com/event/sunday-breakfast-lunch-8am-2pm-5/
ATTACH;FMTTYPE=image/jpeg:https://mentonelsc.com/wp-content/uploads/2024/08/Image-1-scaled-e1729193667861.jpg
END:VEVENT
BEGIN:VEVENT
DTSTART;TZID=Australia/Melbourne:20250213T170000
DTEND;TZID=Australia/Melbourne:20250213T210000
DTSTAMP:20260426T024923
CREATED:20250121T233505Z
LAST-MODIFIED:20250121T233505Z
UID:11300-1739466000-1739480400@mentonelsc.com
SUMMARY:Thursday Dinner 5pm-9pm
DESCRIPTION:New Summer Menu
URL:https://mentonelsc.com/event/thursday-dinner-5pm-9pm-9/
ATTACH;FMTTYPE=image/jpeg:https://mentonelsc.com/wp-content/uploads/2025/01/IMG_4713-e1737502496731.jpg
END:VEVENT
BEGIN:VEVENT
DTSTART;TZID=Australia/Melbourne:20250214T170000
DTEND;TZID=Australia/Melbourne:20250214T210000
DTSTAMP:20260426T024923
CREATED:20250121T234917Z
LAST-MODIFIED:20250121T234917Z
UID:11302-1739552400-1739566800@mentonelsc.com
SUMMARY:Friday Dinner 5pm-9pm
DESCRIPTION:Happy Hour 5pm-6pm
URL:https://mentonelsc.com/event/friday-dinner-5pm-9pm-8/
ATTACH;FMTTYPE=image/jpeg:https://mentonelsc.com/wp-content/uploads/2024/10/Chicken-Salad-Dinner-scaled-e1771544589206.jpeg
END:VEVENT
BEGIN:VEVENT
DTSTART;TZID=Australia/Melbourne:20250216T080000
DTEND;TZID=Australia/Melbourne:20250216T180000
DTSTAMP:20260426T024923
CREATED:20250122T000009Z
LAST-MODIFIED:20250122T000009Z
UID:11304-1739692800-1739728800@mentonelsc.com
SUMMARY:Sunday Breakfast/Lunch/Music 8am-6pm
DESCRIPTION:No Bookings – Walk-ins Only \nLive Music from 2pm-5pm
URL:https://mentonelsc.com/event/sunday-breakfast-lunch-music-8am-6pm-3/
ATTACH;FMTTYPE=image/jpeg:https://mentonelsc.com/wp-content/uploads/2024/10/unnamed-scaled-e1732061206602.jpg
END:VEVENT
BEGIN:VEVENT
DTSTART;TZID=Australia/Melbourne:20250220T170000
DTEND;TZID=Australia/Melbourne:20250220T210000
DTSTAMP:20260426T024923
CREATED:20250122T000725Z
LAST-MODIFIED:20250122T000725Z
UID:11307-1740070800-1740085200@mentonelsc.com
SUMMARY:Thursday Dinner 5pm-9pm
DESCRIPTION:New Summer Menu
URL:https://mentonelsc.com/event/thursday-dinner-5pm-9pm-10/
ATTACH;FMTTYPE=image/png:https://mentonelsc.com/wp-content/uploads/2024/09/Chicken-Parma-e1737504434548.png
END:VEVENT
BEGIN:VEVENT
DTSTART;TZID=Australia/Melbourne:20250221T170000
DTEND;TZID=Australia/Melbourne:20250221T210000
DTSTAMP:20260426T024923
CREATED:20250122T001103Z
LAST-MODIFIED:20250122T001103Z
UID:11309-1740157200-1740171600@mentonelsc.com
SUMMARY:Friday Dinner 5pm-9pm
DESCRIPTION:Happy Hour 5pm-6pm \n 
URL:https://mentonelsc.com/event/friday-dinner-5pm-9pm-9/
ATTACH;FMTTYPE=image/jpeg:https://mentonelsc.com/wp-content/uploads/2024/10/IMG_2686-2-e1752713810717.jpg
END:VEVENT
BEGIN:VEVENT
DTSTART;VALUE=DATE:20250223
DTEND;VALUE=DATE:20250224
DTSTAMP:20260426T024923
CREATED:20250122T001335Z
LAST-MODIFIED:20250212T223028Z
UID:11312-1740268800-1740355199@mentonelsc.com
SUMMARY:CLOSED for Function
DESCRIPTION:Closed for function
URL:https://mentonelsc.com/event/sunday-breakfast-lunch-8am-2pm-6/
ATTACH;FMTTYPE=image/jpeg:https://mentonelsc.com/wp-content/uploads/2025/01/Closed-graphic-1-e1740718757775.jpg
END:VEVENT
BEGIN:VEVENT
DTSTART;TZID=Australia/Melbourne:20250227T170000
DTEND;TZID=Australia/Melbourne:20250227T210000
DTSTAMP:20260426T024923
CREATED:20250122T002357Z
LAST-MODIFIED:20250122T002357Z
UID:11314-1740675600-1740690000@mentonelsc.com
SUMMARY:Thursday Dinner 5pm-9pm
DESCRIPTION:New Summer Menu
URL:https://mentonelsc.com/event/thursday-dinner-5pm-9pm-11/
ATTACH;FMTTYPE=image/jpeg:https://mentonelsc.com/wp-content/uploads/2024/06/Burger-for-marketing-e1729192332843.jpg
END:VEVENT
BEGIN:VEVENT
DTSTART;TZID=Australia/Melbourne:20250228T170000
DTEND;TZID=Australia/Melbourne:20250228T210000
DTSTAMP:20260426T024923
CREATED:20250122T002804Z
LAST-MODIFIED:20250122T002804Z
UID:11316-1740762000-1740776400@mentonelsc.com
SUMMARY:Friday Dinner 5pm-9pm
DESCRIPTION:Happy Hour 5pm-6pm
URL:https://mentonelsc.com/event/friday-dinner-5pm-9pm-10/
ATTACH;FMTTYPE=image/jpeg:https://mentonelsc.com/wp-content/uploads/2024/01/MentoneLSC_015-e1759877613488.jpg
END:VEVENT
BEGIN:VEVENT
DTSTART;TZID=Australia/Melbourne:20250302T170000
DTEND;TZID=Australia/Melbourne:20250302T210000
DTSTAMP:20260426T024923
CREATED:20250122T003311Z
LAST-MODIFIED:20250122T003311Z
UID:11318-1740934800-1740949200@mentonelsc.com
SUMMARY:Sunday Breakfast/Lunch 8am-2pm
DESCRIPTION:No Bookings – Walk-ins Only
URL:https://mentonelsc.com/event/sunday-breakfast-lunch-8am-2pm-7/
ATTACH;FMTTYPE=image/jpeg:https://mentonelsc.com/wp-content/uploads/2024/08/Image-1-scaled-e1729193667861.jpg
END:VEVENT
BEGIN:VEVENT
DTSTART;TZID=Australia/Melbourne:20250306T170000
DTEND;TZID=Australia/Melbourne:20250306T210000
DTSTAMP:20260426T024923
CREATED:20250122T003424Z
LAST-MODIFIED:20250122T003606Z
UID:11320-1741280400-1741294800@mentonelsc.com
SUMMARY:Thursday Dinner 5pm-9pm
DESCRIPTION:New Summer Menu
URL:https://mentonelsc.com/event/thursday-dinner-5pm-9pm-12/
ATTACH;FMTTYPE=image/jpeg:https://mentonelsc.com/wp-content/uploads/2024/10/Chicken-Salad-Dinner-scaled-e1771544589206.jpeg
END:VEVENT
BEGIN:VEVENT
DTSTART;TZID=Australia/Melbourne:20250307T170000
DTEND;TZID=Australia/Melbourne:20250307T210000
DTSTAMP:20260426T024923
CREATED:20250122T003829Z
LAST-MODIFIED:20250122T003841Z
UID:11323-1741366800-1741381200@mentonelsc.com
SUMMARY:Friday Dinner 5pm-9pm
DESCRIPTION:Happy Hour 5pm-6pm
URL:https://mentonelsc.com/event/friday-dinner-5pm-9pm-11/
ATTACH;FMTTYPE=image/jpeg:https://mentonelsc.com/wp-content/uploads/2024/06/Cocktail_1-1-scaled-e1765502454496.jpg
END:VEVENT
BEGIN:VEVENT
DTSTART;TZID=Australia/Melbourne:20250309T080000
DTEND;TZID=Australia/Melbourne:20250309T140000
DTSTAMP:20260426T024923
CREATED:20250122T005316Z
LAST-MODIFIED:20250122T005931Z
UID:11325-1741507200-1741528800@mentonelsc.com
SUMMARY:Sunday Breakfast/Lunch 8am-2pm
DESCRIPTION:No Bookings – Walk-ins Only
URL:https://mentonelsc.com/event/sunday-breakfast-lunch-8am-2pm-8/
ATTACH;FMTTYPE=image/jpeg:https://mentonelsc.com/wp-content/uploads/2024/10/unnamed-scaled-e1732061206602.jpg
END:VEVENT
BEGIN:VEVENT
DTSTART;TZID=Australia/Melbourne:20250313T170000
DTEND;TZID=Australia/Melbourne:20250313T210000
DTSTAMP:20260426T024923
CREATED:20250122T010251Z
LAST-MODIFIED:20250122T010251Z
UID:11328-1741885200-1741899600@mentonelsc.com
SUMMARY:Thursday Dinner 5pm-9pm
DESCRIPTION:New Summer Menu
URL:https://mentonelsc.com/event/thursday-dinner-5pm-9pm-13/
ATTACH;FMTTYPE=image/png:https://mentonelsc.com/wp-content/uploads/2024/09/Chicken-Parma-e1737504434548.png
END:VEVENT
BEGIN:VEVENT
DTSTART;TZID=Australia/Melbourne:20250314T170000
DTEND;TZID=Australia/Melbourne:20250314T210000
DTSTAMP:20260426T024923
CREATED:20250122T010444Z
LAST-MODIFIED:20250122T010444Z
UID:11330-1741971600-1741986000@mentonelsc.com
SUMMARY:Friday Dinner 5pm-9pm
DESCRIPTION:Happy Hour 5pm-6pm
URL:https://mentonelsc.com/event/friday-dinner-5pm-9pm-12/
ATTACH;FMTTYPE=image/jpeg:https://mentonelsc.com/wp-content/uploads/2025/01/IMG_4713-e1737502496731.jpg
END:VEVENT
BEGIN:VEVENT
DTSTART;TZID=Australia/Melbourne:20250316T080000
DTEND;TZID=Australia/Melbourne:20250316T110000
DTSTAMP:20260426T024923
CREATED:20250122T010640Z
LAST-MODIFIED:20250303T043554Z
UID:11332-1742112000-1742122800@mentonelsc.com
SUMMARY:Sunday Breakfast Only 8am-11am
DESCRIPTION:No Bookings – Walk-ins Only
URL:https://mentonelsc.com/event/sunday-breakfast-lunch-8am-2pm-9/
ATTACH;FMTTYPE=image/jpeg:https://mentonelsc.com/wp-content/uploads/2024/08/unsplash-image-nzyzAUsbV0M.jpg
END:VEVENT
BEGIN:VEVENT
DTSTART;TZID=Australia/Melbourne:20250320T170000
DTEND;TZID=Australia/Melbourne:20250320T210000
DTSTAMP:20260426T024923
CREATED:20250122T010946Z
LAST-MODIFIED:20250122T010946Z
UID:11336-1742490000-1742504400@mentonelsc.com
SUMMARY:Thursday Dinner 5pm-9pm
DESCRIPTION:New Summer Menu
URL:https://mentonelsc.com/event/thursday-dinner-5pm-9pm-14/
ATTACH;FMTTYPE=image/jpeg:https://mentonelsc.com/wp-content/uploads/2024/06/Burger-for-marketing-e1729192332843.jpg
END:VEVENT
BEGIN:VEVENT
DTSTART;TZID=Australia/Melbourne:20250321T170000
DTEND;TZID=Australia/Melbourne:20250321T210000
DTSTAMP:20260426T024923
CREATED:20250122T011206Z
LAST-MODIFIED:20250122T011206Z
UID:11338-1742576400-1742590800@mentonelsc.com
SUMMARY:Friday Dinner 5pm-9pm
DESCRIPTION:Happy Hour 5pm-6pm
URL:https://mentonelsc.com/event/friday-dinner-5pm-9pm-13/
ATTACH;FMTTYPE=image/jpeg:https://mentonelsc.com/wp-content/uploads/2024/01/MentoneLSC_015-e1759877613488.jpg
END:VEVENT
BEGIN:VEVENT
DTSTART;TZID=Australia/Melbourne:20250323T080000
DTEND;TZID=Australia/Melbourne:20250323T110000
DTSTAMP:20260426T024923
CREATED:20250122T011355Z
LAST-MODIFIED:20250303T043749Z
UID:11340-1742716800-1742727600@mentonelsc.com
SUMMARY:Sunday Breakfast Only 8am - 11am
DESCRIPTION:No Bookings – Walk-ins Only
URL:https://mentonelsc.com/event/sunday-breakfast-lunch-8am-2pm-10/
ATTACH;FMTTYPE=image/jpeg:https://mentonelsc.com/wp-content/uploads/2024/08/unsplash-image-nzyzAUsbV0M.jpg
END:VEVENT
BEGIN:VEVENT
DTSTART;TZID=Australia/Melbourne:20250327T170000
DTEND;TZID=Australia/Melbourne:20250327T210000
DTSTAMP:20260426T024923
CREATED:20250122T011554Z
LAST-MODIFIED:20250122T011554Z
UID:11343-1743094800-1743109200@mentonelsc.com
SUMMARY:Thursday Dinner 5pm-9pm
DESCRIPTION:New Summer Menu
URL:https://mentonelsc.com/event/thursday-dinner-5pm-9pm-15/
ATTACH;FMTTYPE=image/jpeg:https://mentonelsc.com/wp-content/uploads/2024/10/Chicken-Salad-Dinner-scaled-e1771544589206.jpeg
END:VEVENT
BEGIN:VEVENT
DTSTART;TZID=Australia/Melbourne:20250328T170000
DTEND;TZID=Australia/Melbourne:20250328T210000
DTSTAMP:20260426T024923
CREATED:20250122T011708Z
LAST-MODIFIED:20250122T011708Z
UID:11345-1743181200-1743195600@mentonelsc.com
SUMMARY:Friday Dinner 5pm-9pm
DESCRIPTION:Happy Hour 5pm-6pm
URL:https://mentonelsc.com/event/friday-dinner-5pm-9pm-14/
ATTACH;FMTTYPE=image/jpeg:https://mentonelsc.com/wp-content/uploads/2023/10/Resized_20230929_175720-e1729211830787.jpeg
END:VEVENT
BEGIN:VEVENT
DTSTART;TZID=Australia/Melbourne:20250330T080000
DTEND;TZID=Australia/Melbourne:20250330T140000
DTSTAMP:20260426T024923
CREATED:20250122T011833Z
LAST-MODIFIED:20250122T011833Z
UID:11347-1743321600-1743343200@mentonelsc.com
SUMMARY:Sunday Breakfast/Lunch 8am-2pm
DESCRIPTION:No Bookings – Walk-ins Only
URL:https://mentonelsc.com/event/sunday-breakfast-lunch-8am-2pm-11/
ATTACH;FMTTYPE=image/jpeg:https://mentonelsc.com/wp-content/uploads/2024/10/unnamed-scaled-e1732061206602.jpg
END:VEVENT
BEGIN:VEVENT
DTSTART;TZID=Australia/Melbourne:20250403T170000
DTEND;TZID=Australia/Melbourne:20250403T210000
DTSTAMP:20260426T024923
CREATED:20250122T011942Z
LAST-MODIFIED:20250122T011942Z
UID:11349-1743699600-1743714000@mentonelsc.com
SUMMARY:Thursday Dinner 5pm-9pm
DESCRIPTION:New Summer Menu
URL:https://mentonelsc.com/event/thursday-dinner-5pm-9pm-16/
ATTACH;FMTTYPE=image/png:https://mentonelsc.com/wp-content/uploads/2024/09/Chicken-Parma-e1737504434548.png
END:VEVENT
BEGIN:VEVENT
DTSTART;TZID=Australia/Melbourne:20250404T170000
DTEND;TZID=Australia/Melbourne:20250404T210000
DTSTAMP:20260426T024923
CREATED:20250122T012122Z
LAST-MODIFIED:20250122T012122Z
UID:11351-1743786000-1743800400@mentonelsc.com
SUMMARY:Friday Dinner 5pm-9pm
DESCRIPTION:Happy Hour 5pm-6pm
URL:https://mentonelsc.com/event/friday-dinner-5pm-9pm-15/
ATTACH;FMTTYPE=image/jpeg:https://mentonelsc.com/wp-content/uploads/2024/06/Cocktail_1-1-scaled-e1765502454496.jpg
END:VEVENT
BEGIN:VEVENT
DTSTART;TZID=Australia/Melbourne:20250406T080000
DTEND;TZID=Australia/Melbourne:20250406T140000
DTSTAMP:20260426T024923
CREATED:20250122T012244Z
LAST-MODIFIED:20250122T012244Z
UID:11353-1743926400-1743948000@mentonelsc.com
SUMMARY:Sunday Breakfast/Lunch 8am-2pm
DESCRIPTION:No Bookings – Walk-ins Only
URL:https://mentonelsc.com/event/sunday-breakfast-lunch-8am-2pm-12/
ATTACH;FMTTYPE=image/jpeg:https://mentonelsc.com/wp-content/uploads/2024/08/unsplash-image-nzyzAUsbV0M.jpg
END:VEVENT
BEGIN:VEVENT
DTSTART;TZID=Australia/Melbourne:20250410T170000
DTEND;TZID=Australia/Melbourne:20250410T210000
DTSTAMP:20260426T024923
CREATED:20250122T012343Z
LAST-MODIFIED:20250122T012343Z
UID:11356-1744304400-1744318800@mentonelsc.com
SUMMARY:Thursday Dinner 5pm-9pm
DESCRIPTION:New Summer Menu
URL:https://mentonelsc.com/event/thursday-dinner-5pm-9pm-17/
ATTACH;FMTTYPE=image/jpeg:https://mentonelsc.com/wp-content/uploads/2024/06/Burger-for-marketing-e1729192332843.jpg
END:VEVENT
END:VCALENDAR