BEGIN:VCALENDAR
VERSION:2.0
PRODID:-//Mentone Life Saving Club - ECPv6.15.20//NONSGML v1.0//EN
CALSCALE:GREGORIAN
METHOD:PUBLISH
X-WR-CALNAME:Mentone Life Saving Club
X-ORIGINAL-URL:https://mentonelsc.com
X-WR-CALDESC:Events for Mentone Life Saving Club
REFRESH-INTERVAL;VALUE=DURATION:PT1H
X-Robots-Tag:noindex
X-PUBLISHED-TTL:PT1H
BEGIN:VTIMEZONE
TZID:Australia/Melbourne
BEGIN:STANDARD
TZOFFSETFROM:+1100
TZOFFSETTO:+1000
TZNAME:AEST
DTSTART:20240406T160000
END:STANDARD
BEGIN:DAYLIGHT
TZOFFSETFROM:+1000
TZOFFSETTO:+1100
TZNAME:AEDT
DTSTART:20241005T160000
END:DAYLIGHT
BEGIN:STANDARD
TZOFFSETFROM:+1100
TZOFFSETTO:+1000
TZNAME:AEST
DTSTART:20250405T160000
END:STANDARD
BEGIN:DAYLIGHT
TZOFFSETFROM:+1000
TZOFFSETTO:+1100
TZNAME:AEDT
DTSTART:20251004T160000
END:DAYLIGHT
BEGIN:STANDARD
TZOFFSETFROM:+1100
TZOFFSETTO:+1000
TZNAME:AEST
DTSTART:20260404T160000
END:STANDARD
BEGIN:DAYLIGHT
TZOFFSETFROM:+1000
TZOFFSETTO:+1100
TZNAME:AEDT
DTSTART:20261003T160000
END:DAYLIGHT
END:VTIMEZONE
BEGIN:VEVENT
DTSTART;TZID=Australia/Melbourne:20250403T170000
DTEND;TZID=Australia/Melbourne:20250403T210000
DTSTAMP:20260425T093436
CREATED:20250122T011942Z
LAST-MODIFIED:20250122T011942Z
UID:11349-1743699600-1743714000@mentonelsc.com
SUMMARY:Thursday Dinner 5pm-9pm
DESCRIPTION:New Summer Menu
URL:https://mentonelsc.com/event/thursday-dinner-5pm-9pm-16/
ATTACH;FMTTYPE=image/png:https://mentonelsc.com/wp-content/uploads/2024/09/Chicken-Parma-e1737504434548.png
END:VEVENT
BEGIN:VEVENT
DTSTART;TZID=Australia/Melbourne:20250404T170000
DTEND;TZID=Australia/Melbourne:20250404T210000
DTSTAMP:20260425T093436
CREATED:20250122T012122Z
LAST-MODIFIED:20250122T012122Z
UID:11351-1743786000-1743800400@mentonelsc.com
SUMMARY:Friday Dinner 5pm-9pm
DESCRIPTION:Happy Hour 5pm-6pm
URL:https://mentonelsc.com/event/friday-dinner-5pm-9pm-15/
ATTACH;FMTTYPE=image/jpeg:https://mentonelsc.com/wp-content/uploads/2024/06/Cocktail_1-1-scaled-e1765502454496.jpg
END:VEVENT
BEGIN:VEVENT
DTSTART;TZID=Australia/Melbourne:20250406T080000
DTEND;TZID=Australia/Melbourne:20250406T140000
DTSTAMP:20260425T093436
CREATED:20250122T012244Z
LAST-MODIFIED:20250122T012244Z
UID:11353-1743926400-1743948000@mentonelsc.com
SUMMARY:Sunday Breakfast/Lunch 8am-2pm
DESCRIPTION:No Bookings – Walk-ins Only
URL:https://mentonelsc.com/event/sunday-breakfast-lunch-8am-2pm-12/
ATTACH;FMTTYPE=image/jpeg:https://mentonelsc.com/wp-content/uploads/2024/08/unsplash-image-nzyzAUsbV0M.jpg
END:VEVENT
BEGIN:VEVENT
DTSTART;TZID=Australia/Melbourne:20250410T170000
DTEND;TZID=Australia/Melbourne:20250410T210000
DTSTAMP:20260425T093436
CREATED:20250122T012343Z
LAST-MODIFIED:20250122T012343Z
UID:11356-1744304400-1744318800@mentonelsc.com
SUMMARY:Thursday Dinner 5pm-9pm
DESCRIPTION:New Summer Menu
URL:https://mentonelsc.com/event/thursday-dinner-5pm-9pm-17/
ATTACH;FMTTYPE=image/jpeg:https://mentonelsc.com/wp-content/uploads/2024/06/Burger-for-marketing-e1729192332843.jpg
END:VEVENT
BEGIN:VEVENT
DTSTART;TZID=Australia/Melbourne:20250411T080000
DTEND;TZID=Australia/Melbourne:20250411T170000
DTSTAMP:20260425T093436
CREATED:20250122T012526Z
LAST-MODIFIED:20250122T012526Z
UID:11358-1744358400-1744390800@mentonelsc.com
SUMMARY:Friday Dinner 5pm-9pm
DESCRIPTION:Happy Hour 5pm-6pm
URL:https://mentonelsc.com/event/friday-dinner-5pm-9pm-16/
ATTACH;FMTTYPE=image/jpeg:https://mentonelsc.com/wp-content/uploads/2025/01/IMG_4713-e1737502496731.jpg
END:VEVENT
BEGIN:VEVENT
DTSTART;TZID=Australia/Melbourne:20250413T080000
DTEND;TZID=Australia/Melbourne:20250413T110000
DTSTAMP:20260425T093436
CREATED:20250122T012642Z
LAST-MODIFIED:20250403T012719Z
UID:11360-1744531200-1744542000@mentonelsc.com
SUMMARY:Sunday Breakfast Only 8am-11am
DESCRIPTION:Last Breakfast for the season \nNo Bookings – Walk-ins Only
URL:https://mentonelsc.com/event/sunday-breakfast-lunch-8am-2pm-13/
ATTACH;FMTTYPE=image/jpeg:https://mentonelsc.com/wp-content/uploads/2024/08/Image-1-scaled-e1729193667861.jpg
END:VEVENT
BEGIN:VEVENT
DTSTART;TZID=Australia/Melbourne:20250417T170000
DTEND;TZID=Australia/Melbourne:20250417T210000
DTSTAMP:20260425T093436
CREATED:20250122T012748Z
LAST-MODIFIED:20250403T012457Z
UID:11362-1744909200-1744923600@mentonelsc.com
SUMMARY:Thursday Dinner 5pm-9pm
DESCRIPTION:Last Thursday Dinner for the season
URL:https://mentonelsc.com/event/thursday-dinner-5pm-9pm-18/
ATTACH;FMTTYPE=image/jpeg:https://mentonelsc.com/wp-content/uploads/2024/10/Chicken-Salad-Dinner-scaled-e1771544589206.jpeg
END:VEVENT
BEGIN:VEVENT
DTSTART;TZID=Australia/Melbourne:20250418T170000
DTEND;TZID=Australia/Melbourne:20250418T210000
DTSTAMP:20260425T093436
CREATED:20250228T045638Z
LAST-MODIFIED:20250409T050948Z
UID:11780-1744995600-1745010000@mentonelsc.com
SUMMARY:Good Friday Dinner - Pop Up Fish & Chip Shop 5pm-9pm
DESCRIPTION:Due to the Public Holiday\, happy hour will not be available. \nClick for SAMPLE MENU
URL:https://mentonelsc.com/event/friday-dinner-5pm-9pm-20/
ATTACH;FMTTYPE=image/jpeg:https://mentonelsc.com/wp-content/uploads/2025/02/IMG_0985-3-scaled-e1743245635501.jpg
END:VEVENT
BEGIN:VEVENT
DTSTART;TZID=Australia/Melbourne:20250420T080000
DTEND;TZID=Australia/Melbourne:20250420T140000
DTSTAMP:20260425T093436
CREATED:20250228T045926Z
LAST-MODIFIED:20250228T045926Z
UID:11783-1745136000-1745157600@mentonelsc.com
SUMMARY:Sunday CLOSED
DESCRIPTION:Closed over the Easter weekend.
URL:https://mentonelsc.com/event/sunday-closed-2/
ATTACH;FMTTYPE=image/jpeg:https://mentonelsc.com/wp-content/uploads/2025/01/Closed-graphic-1-e1740718757775.jpg
END:VEVENT
BEGIN:VEVENT
DTSTART;TZID=Australia/Melbourne:20250425T170000
DTEND;TZID=Australia/Melbourne:20250425T210000
DTSTAMP:20260425T093436
CREATED:20250122T013250Z
LAST-MODIFIED:20250403T012045Z
UID:11366-1745600400-1745614800@mentonelsc.com
SUMMARY:Friday CLOSED
DESCRIPTION:Closed due to Anzac Day
URL:https://mentonelsc.com/event/friday-dinner-5pm-9pm-17/
ATTACH;FMTTYPE=image/jpeg:https://mentonelsc.com/wp-content/uploads/2025/01/Closed-graphic-1-e1740718757775.jpg
END:VEVENT
END:VCALENDAR