BEGIN:VCALENDAR
VERSION:2.0
PRODID:-//Mentone Life Saving Club - ECPv6.15.20//NONSGML v1.0//EN
CALSCALE:GREGORIAN
METHOD:PUBLISH
X-WR-CALNAME:Mentone Life Saving Club
X-ORIGINAL-URL:https://mentonelsc.com
X-WR-CALDESC:Events for Mentone Life Saving Club
REFRESH-INTERVAL;VALUE=DURATION:PT1H
X-Robots-Tag:noindex
X-PUBLISHED-TTL:PT1H
BEGIN:VTIMEZONE
TZID:Australia/Melbourne
BEGIN:STANDARD
TZOFFSETFROM:+1100
TZOFFSETTO:+1000
TZNAME:AEST
DTSTART:20240406T160000
END:STANDARD
BEGIN:DAYLIGHT
TZOFFSETFROM:+1000
TZOFFSETTO:+1100
TZNAME:AEDT
DTSTART:20241005T160000
END:DAYLIGHT
BEGIN:STANDARD
TZOFFSETFROM:+1100
TZOFFSETTO:+1000
TZNAME:AEST
DTSTART:20250405T160000
END:STANDARD
BEGIN:DAYLIGHT
TZOFFSETFROM:+1000
TZOFFSETTO:+1100
TZNAME:AEDT
DTSTART:20251004T160000
END:DAYLIGHT
BEGIN:STANDARD
TZOFFSETFROM:+1100
TZOFFSETTO:+1000
TZNAME:AEST
DTSTART:20260404T160000
END:STANDARD
BEGIN:DAYLIGHT
TZOFFSETFROM:+1000
TZOFFSETTO:+1100
TZNAME:AEDT
DTSTART:20261003T160000
END:DAYLIGHT
END:VTIMEZONE
BEGIN:VEVENT
DTSTART;TZID=Australia/Melbourne:20250502T170000
DTEND;TZID=Australia/Melbourne:20250502T210000
DTSTAMP:20260425T075725
CREATED:20250122T013704Z
LAST-MODIFIED:20250122T013704Z
UID:11372-1746205200-1746219600@mentonelsc.com
SUMMARY:Friday Dinner 5pm-9pm
DESCRIPTION:Happy Hour 5pm-6pm
URL:https://mentonelsc.com/event/friday-dinner-5pm-9pm-18/
ATTACH;FMTTYPE=image/jpeg:https://mentonelsc.com/wp-content/uploads/2023/10/Resized_20230929_175720-e1729211830787.jpeg
END:VEVENT
BEGIN:VEVENT
DTSTART;TZID=Australia/Melbourne:20250509T170000
DTEND;TZID=Australia/Melbourne:20250509T210000
DTSTAMP:20260425T075725
CREATED:20250122T014218Z
LAST-MODIFIED:20250409T061315Z
UID:11379-1746810000-1746824400@mentonelsc.com
SUMMARY:Friday Dinner and Live Music on the Bay 5pm-11:30pm
DESCRIPTION:Click for Live Music on the Bay information and booking link. \n  \nClick to book for dinner.
URL:https://mentonelsc.com/event/friday-dinner-5pm-9pm-19/
ATTACH;FMTTYPE=image/jpeg:https://mentonelsc.com/wp-content/uploads/2025/01/catnip-the-band-e1744169224484.jpg
END:VEVENT
BEGIN:VEVENT
DTSTART;TZID=Australia/Melbourne:20250511T090000
DTEND;TZID=Australia/Melbourne:20250511T150000
DTSTAMP:20260425T075725
CREATED:20250122T015427Z
LAST-MODIFIED:20250423T034303Z
UID:11381-1746954000-1746975600@mentonelsc.com
SUMMARY:Mother's Day Breakfast and Lunch
DESCRIPTION:Celebrate Mother’s Day at Mentone LSC \n\n\n\n\n\nBuffet Breakfast 9am-11am – Adult $40 Child $18 – click to book breakfast\n\n\nShared Family Roast 12pm-3pm – Adult $45 Child $18 – click to book lunch\n\n\n\nLive Music from 12pm
URL:https://mentonelsc.com/event/mothers-day-breakfast/
ATTACH;FMTTYPE=image/jpeg:https://mentonelsc.com/wp-content/uploads/2025/04/mother-daughter-love-sunset-51953-51953-2-scaled-e1745379597216.jpg
END:VEVENT
BEGIN:VEVENT
DTSTART;TZID=Australia/Melbourne:20250516T170000
DTEND;TZID=Australia/Melbourne:20250516T230000
DTSTAMP:20260425T075725
CREATED:20250409T031044Z
LAST-MODIFIED:20250409T061205Z
UID:11978-1747414800-1747436400@mentonelsc.com
SUMMARY:Friday Dinner and Live Music on the Bay 5pm-11:30pm
DESCRIPTION:Click for Live Music on the Bay information and booking link. \n  \nClick to book for dinner.
URL:https://mentonelsc.com/event/friday-dinner-and-music-on-the-bay-5pm-11pm/
ATTACH;FMTTYPE=image/jpeg:https://mentonelsc.com/wp-content/uploads/2025/01/catnip-the-band-e1744169224484.jpg
END:VEVENT
BEGIN:VEVENT
DTSTART;TZID=Australia/Melbourne:20250523T170000
DTEND;TZID=Australia/Melbourne:20250523T230000
DTSTAMP:20260425T075725
CREATED:20250409T032150Z
LAST-MODIFIED:20250523T020107Z
UID:11981-1748019600-1748041200@mentonelsc.com
SUMMARY:Friday Dinner and Live Music on the Bay 5pm-11:30pm
DESCRIPTION:Click for Live Music on the Bay information and booking link. \n  \nClick to book for dinner.
URL:https://mentonelsc.com/event/friday-dinner-and-music-on-the-bay-5pm-1130pm/
ATTACH;FMTTYPE=image/jpeg:https://mentonelsc.com/wp-content/uploads/2025/04/the-party-animals-2-e1747965594847.jpg
END:VEVENT
BEGIN:VEVENT
DTSTART;TZID=Australia/Melbourne:20250530T170000
DTEND;TZID=Australia/Melbourne:20250530T230000
DTSTAMP:20260425T075725
CREATED:20250409T042837Z
LAST-MODIFIED:20250523T033419Z
UID:11986-1748624400-1748646000@mentonelsc.com
SUMMARY:Friday Dinner and Live Music on the Bay 5pm-11:30pm
DESCRIPTION:Click for Live Music on the Bay information and booking link. \n  \nClick to book for dinner.
URL:https://mentonelsc.com/event/friday-dinner-and-music-on-the-bay-5pm-1130pm-2/
ATTACH;FMTTYPE=image/jpeg:https://mentonelsc.com/wp-content/uploads/2025/04/the-Jetsons-logo-1-e1747971246919.jpg
END:VEVENT
END:VCALENDAR