BEGIN:VCALENDAR
VERSION:2.0
PRODID:-//Mentone Life Saving Club - ECPv6.15.20//NONSGML v1.0//EN
CALSCALE:GREGORIAN
METHOD:PUBLISH
X-ORIGINAL-URL:https://mentonelsc.com
X-WR-CALDESC:Events for Mentone Life Saving Club
REFRESH-INTERVAL;VALUE=DURATION:PT1H
X-Robots-Tag:noindex
X-PUBLISHED-TTL:PT1H
BEGIN:VTIMEZONE
TZID:Australia/Melbourne
BEGIN:STANDARD
TZOFFSETFROM:+1100
TZOFFSETTO:+1000
TZNAME:AEST
DTSTART:20240406T160000
END:STANDARD
BEGIN:DAYLIGHT
TZOFFSETFROM:+1000
TZOFFSETTO:+1100
TZNAME:AEDT
DTSTART:20241005T160000
END:DAYLIGHT
BEGIN:STANDARD
TZOFFSETFROM:+1100
TZOFFSETTO:+1000
TZNAME:AEST
DTSTART:20250405T160000
END:STANDARD
BEGIN:DAYLIGHT
TZOFFSETFROM:+1000
TZOFFSETTO:+1100
TZNAME:AEDT
DTSTART:20251004T160000
END:DAYLIGHT
BEGIN:STANDARD
TZOFFSETFROM:+1100
TZOFFSETTO:+1000
TZNAME:AEST
DTSTART:20260404T160000
END:STANDARD
BEGIN:DAYLIGHT
TZOFFSETFROM:+1000
TZOFFSETTO:+1100
TZNAME:AEDT
DTSTART:20261003T160000
END:DAYLIGHT
END:VTIMEZONE
BEGIN:VEVENT
DTSTART;TZID=Australia/Melbourne:20250704T170000
DTEND;TZID=Australia/Melbourne:20250704T233000
DTSTAMP:20260424T202035
CREATED:20250623T221942Z
LAST-MODIFIED:20250630T013349Z
UID:12533-1751648400-1751671800@mentonelsc.com
SUMMARY:Friday Dinner and Live Music on the Bay 5pm-11:30pm
DESCRIPTION:LIVE MUSIC WITH URBAN GROOVE\nClick for Live Music on the Bay information and booking link. \nDINNER BOOKING\nClick to book for dinner.
URL:https://mentonelsc.com/event/friday-dinner-and-live-music-on-the-bay-5pm-1130pm/
ATTACH;FMTTYPE=image/png:https://mentonelsc.com/wp-content/uploads/2025/06/image-2-1.png
END:VEVENT
BEGIN:VEVENT
DTSTART;TZID=Australia/Melbourne:20250706T130000
DTEND;TZID=Australia/Melbourne:20250706T210000
DTSTAMP:20260424T202035
CREATED:20250529T234703Z
LAST-MODIFIED:20250630T012906Z
UID:12325-1751806800-1751835600@mentonelsc.com
SUMMARY:World of Music - Sunday Session
DESCRIPTION:Ras Jahknow Band blazes new soul and fresh rhythms into what is described best as culturally rich\, roots reggae music. Passionate vocals in English and Creole weave through the diverse native sounds from the African island nation of Cape Verde\, Malaysia\, and Mauritius to Australia. The band embodies a vision of unity\, respect and peace\, built on the foundation of irresistible\, reggae rhythms. \nCape Verdean-born Ras Jahknow formed the band in late 2010\, and they have since cemented themselves as one of Australia’s most iconic reggae ensembles. \nBOOK A RESERVED TABLE – A limited number of tables are available but you MUST pre-book QUICKLY\nBookings open 27 June 2025\n• Table of 4 @$50\n• Table of 6 @$70 \nSTANDING ROOM Entry is by way of a $10 donation at the door \nDRINKS & FOOD – Drinks at bar prices. Food will be available. \nDATE\nSunday July 6\, 2025 – Arrive at 1pm. Music starts at 2pm
URL:https://mentonelsc.com/event/world-of-music-sunday-session/
ATTACH;FMTTYPE=image/jpeg:https://mentonelsc.com/wp-content/uploads/2025/05/RAS-World-of-Music.jpeg
END:VEVENT
BEGIN:VEVENT
DTSTART;TZID=Australia/Melbourne:20250711T170000
DTEND;TZID=Australia/Melbourne:20250711T233000
DTSTAMP:20260424T202035
CREATED:20250623T222658Z
LAST-MODIFIED:20250630T013328Z
UID:12536-1752253200-1752276600@mentonelsc.com
SUMMARY:Friday Dinner and Live Music on the Bay 5pm-11:30pm
DESCRIPTION:LIVE MUSIC WITH RETRO CITY\nClick for Live Music on the Bay information and booking link. \nDINNER BOOKING\nClick to book for dinner.
URL:https://mentonelsc.com/event/friday-dinner-and-live-music-on-the-bay-5pm-1130pm-3/
ATTACH;FMTTYPE=image/jpeg:https://mentonelsc.com/wp-content/uploads/2025/06/358542486_104765139355484_8395335903552164598_n-1-e1751246355633.jpg
END:VEVENT
BEGIN:VEVENT
DTSTART;TZID=Australia/Melbourne:20250718T170000
DTEND;TZID=Australia/Melbourne:20250718T233000
DTSTAMP:20260424T202035
CREATED:20250623T222935Z
LAST-MODIFIED:20250715T042856Z
UID:12538-1752858000-1752881400@mentonelsc.com
SUMMARY:Friday Dinner and Live Music on the Bay 5pm-11:30pm
DESCRIPTION:LIVE MUSIC WITH SIDE PROJECT\nClick for Live Music on the Bay information and booking link. \nDINNER BOOKING\nClick to book for dinner.
URL:https://mentonelsc.com/event/friday-dinner-and-live-music-on-the-bay-5pm-1130pm-4/
ATTACH;FMTTYPE=image/jpeg:https://mentonelsc.com/wp-content/uploads/2025/06/89539fd6-f38e-41e2-8874-c82762006cb8-e1752113671270.jpg
END:VEVENT
BEGIN:VEVENT
DTSTART;TZID=Australia/Melbourne:20250720T120000
DTEND;TZID=Australia/Melbourne:20250720T160000
DTSTAMP:20260424T202035
CREATED:20250619T050003Z
LAST-MODIFIED:20250619T050123Z
UID:12483-1753012800-1753027200@mentonelsc.com
SUMMARY:Christmas in July
DESCRIPTION:Come join us for the Christmas in July on Sunday 20th July from 12pm. Enjoy a relaxing afternoon with live music and a festive Christmas lunch. \nAdult – $35 per head\nChild – $18 per head \nVegetarian option – $28 per head \nMENU\nAdults\nPlated Roast – Crackled pork belly\, shaved turkey\, cranberry sauce\, cumin roasted pumpkin\, vegetables\, potato gratin and red wine jus. \nChild\nMini Roast – Crackled pork belly\, shaved turkey\, vegetables\, potato and gravy. \nVegetarian option\nRoasted butternut pumpkin with maple syrup and spiced nuts served with vegetables and a potato gratin. \nDesserts will be available on the day. \nBookings must be made and paid for via this Trybooking https://www.trybooking.com/DCOCR by Tuesday 15th July @ 11pm
URL:https://mentonelsc.com/event/christmas-in-july/
ATTACH;FMTTYPE=image/png:https://mentonelsc.com/wp-content/uploads/2025/06/Xmas-banner-2025.png
END:VEVENT
BEGIN:VEVENT
DTSTART;TZID=Australia/Melbourne:20250725T170000
DTEND;TZID=Australia/Melbourne:20250725T233000
DTSTAMP:20260424T202035
CREATED:20250630T011246Z
LAST-MODIFIED:20250630T013138Z
UID:12587-1753462800-1753486200@mentonelsc.com
SUMMARY:Friday Dinner and Live Music on the Bay 5pm-11:30pm
DESCRIPTION:LIVE MUSIC WITH THE BAILEY BROTHERS\nClick for Live Music on the Bay information and booking link. \nDINNER BOOKING\nClick to book for dinner.
URL:https://mentonelsc.com/event/friday-dinner-and-live-music-on-the-bay-5pm-1130pm-5/
ATTACH;FMTTYPE=image/jpeg:https://mentonelsc.com/wp-content/uploads/2025/06/bailey-brothers-032301-e1751246455207.jpg
END:VEVENT
END:VCALENDAR