BEGIN:VCALENDAR
VERSION:2.0
PRODID:-//Mentone Life Saving Club - ECPv6.15.20//NONSGML v1.0//EN
CALSCALE:GREGORIAN
METHOD:PUBLISH
X-WR-CALNAME:Mentone Life Saving Club
X-ORIGINAL-URL:https://mentonelsc.com
X-WR-CALDESC:Events for Mentone Life Saving Club
REFRESH-INTERVAL;VALUE=DURATION:PT1H
X-Robots-Tag:noindex
X-PUBLISHED-TTL:PT1H
BEGIN:VTIMEZONE
TZID:Australia/Melbourne
BEGIN:STANDARD
TZOFFSETFROM:+1100
TZOFFSETTO:+1000
TZNAME:AEST
DTSTART:20240406T160000
END:STANDARD
BEGIN:DAYLIGHT
TZOFFSETFROM:+1000
TZOFFSETTO:+1100
TZNAME:AEDT
DTSTART:20241005T160000
END:DAYLIGHT
BEGIN:STANDARD
TZOFFSETFROM:+1100
TZOFFSETTO:+1000
TZNAME:AEST
DTSTART:20250405T160000
END:STANDARD
BEGIN:DAYLIGHT
TZOFFSETFROM:+1000
TZOFFSETTO:+1100
TZNAME:AEDT
DTSTART:20251004T160000
END:DAYLIGHT
BEGIN:STANDARD
TZOFFSETFROM:+1100
TZOFFSETTO:+1000
TZNAME:AEST
DTSTART:20260404T160000
END:STANDARD
BEGIN:DAYLIGHT
TZOFFSETFROM:+1000
TZOFFSETTO:+1100
TZNAME:AEDT
DTSTART:20261003T160000
END:DAYLIGHT
END:VTIMEZONE
BEGIN:VEVENT
DTSTART;TZID=Australia/Melbourne:20250801T170000
DTEND;TZID=Australia/Melbourne:20250801T190000
DTSTAMP:20260424T201421
CREATED:20250731T032507Z
LAST-MODIFIED:20250801T054038Z
UID:12767-1754067600-1754074800@mentonelsc.com
SUMMARY:Friday night drinks - Happy hour 5-6pm
DESCRIPTION:Friday night drinks at the Club 5-7pm for members and guests.\nHappy hour 5-6pm \nCheese platters available
URL:https://mentonelsc.com/event/friday-night-drinks-happy-hour-5-6pm/
ATTACH;FMTTYPE=image/jpeg:https://mentonelsc.com/wp-content/uploads/2024/06/Cocktail_1-1-scaled-e1765502454496.jpg
END:VEVENT
BEGIN:VEVENT
DTSTART;TZID=Australia/Melbourne:20250803T130000
DTEND;TZID=Australia/Melbourne:20250803T170000
DTSTAMP:20260424T201421
CREATED:20250801T053726Z
LAST-MODIFIED:20250801T053726Z
UID:12776-1754226000-1754240400@mentonelsc.com
SUMMARY:EVENT CANCELLED - Live Music at Mentone Life Saving Club Featuring: One Spirit Africa
DESCRIPTION:EVENT CANCELLED \n  \nOne Spirit Africa is a multicultural\, Afro-fusion band offering high-energy performances\, original tunes\, vibrant costumes and good vibes\, combining traditional West African percussion with Western instrumentation\, aiming to promote peace and unity through music. \nBOOK A RESERVED TABLE – A limited number of tables are available but you MUST pre-book QUICKLY \n• Table of 4 @$50\n• Table of 6 @$70 \nSTANDING ROOM Entry is by way of a $10 donation at the door \nDRINKS & FOOD – Drinks at bar prices. Food will be available. \nDATE\nSunday August 3 2025 – Arrive at 1pm. Music starts at 2pm
URL:https://mentonelsc.com/event/event-cancelled-live-music-at-mentone-life-saving-club-featuring-one-spirit-africa/
ATTACH;FMTTYPE=image/jpeg:https://mentonelsc.com/wp-content/uploads/2025/06/Cancelled.jpg
END:VEVENT
BEGIN:VEVENT
DTSTART;TZID=Australia/Melbourne:20250808T170000
DTEND;TZID=Australia/Melbourne:20250808T190000
DTSTAMP:20260424T201421
CREATED:20250804T051258Z
LAST-MODIFIED:20250804T052246Z
UID:12786-1754672400-1754679600@mentonelsc.com
SUMMARY:Friday night drinks – Happy hour 5-6pm
DESCRIPTION:Friday night drinks at the Club 5-7pm for members and guests. \nHappy hour 5-6pm.\nKitchen closed for meals. \nCheese platters available.
URL:https://mentonelsc.com/event/friday-night-drinks-happy-hour-5-6pm-3/
ATTACH;FMTTYPE=image/jpeg:https://mentonelsc.com/wp-content/uploads/2025/08/Cheese-platter.jpg
END:VEVENT
BEGIN:VEVENT
DTSTART;TZID=Australia/Melbourne:20250815T170000
DTEND;TZID=Australia/Melbourne:20250815T190000
DTSTAMP:20260424T201421
CREATED:20250804T045529Z
LAST-MODIFIED:20250804T051344Z
UID:12784-1755277200-1755284400@mentonelsc.com
SUMMARY:Friday night drinks – Happy hour 5-6pm
DESCRIPTION:Friday night drinks at the Club 5-7pm for members and guests. \nHappy hour 5-6pm.\nKitchen closed for meals.\n Cheese platters available.
URL:https://mentonelsc.com/event/friday-night-drinks-happy-hour-5-6pm-2/
ATTACH;FMTTYPE=image/jpeg:https://mentonelsc.com/wp-content/uploads/2024/01/MLS_100__003.jpg
END:VEVENT
BEGIN:VEVENT
DTSTART;TZID=Australia/Melbourne:20250822T170000
DTEND;TZID=Australia/Melbourne:20250822T190000
DTSTAMP:20260424T201421
CREATED:20250818T233819Z
LAST-MODIFIED:20250818T233819Z
UID:12889-1755882000-1755889200@mentonelsc.com
SUMMARY:Friday night drinks at the Club 5-7pm for members and guests
DESCRIPTION:Friday night drinks at the Club 5-7pm for members and guests. \nHappy hour 5-6pm.\nKitchen closed for meals.\n Cheese platters available.
URL:https://mentonelsc.com/event/friday-night-drinks-at-the-club-5-7pm-for-members-and-guests/
ATTACH;FMTTYPE=image/jpeg:https://mentonelsc.com/wp-content/uploads/2025/08/Cheese-platter.jpg
END:VEVENT
BEGIN:VEVENT
DTSTART;TZID=Australia/Melbourne:20250824T120000
DTEND;TZID=Australia/Melbourne:20250824T170000
DTSTAMP:20260424T201421
CREATED:20250715T042351Z
LAST-MODIFIED:20250821T022013Z
UID:12676-1756036800-1756054800@mentonelsc.com
SUMMARY:Italian Fresh Pasta Feast
DESCRIPTION:Join us on Sunday 24th August from 12pm at the Mentone Life Saving Club for an unforgettable Italian Fresh Pasta Feast. Indulge in handmade pasta\, sip on Italian wines and spritzes\, and enjoy live music looking at the beautiful winter views of the bay. Bring your friends\, your appetite\, and your love for Italian food — we’ll take care of the rest! \nAdults Three Course Menu – $50 per head \nAntipasto to share – Cured meats\, burrata\, marinated olives\, pickles\, fresh baked bread \nSelection of Handmade Pasta Dishes Served to Share:\nOrecchiette pasta tossed with roasted chicken\, creamy pesto\, blistered cherry tomatoes\, and wild rocket\nRoasted pumpkin ravioli with burnt sage butter\, spinach\, almonds\, and pepitas\nSlow-cooked red wine lamb ragù tossed with potato gnocchi\, topped with gremolata \nDessert\nTiramisu and Cannoli \nChild Menu – $15 per head (choice of meal on the day & includes a bowl of ice cream) \nGnocchi with tomato and parmesan\nLinguini with butter and parmesan \n  \nBookings must be made and paid for via this Trybooking by Wednesday 20th August @ 11pm
URL:https://mentonelsc.com/event/italian-fresh-pasta-feast/
ATTACH;FMTTYPE=image/png:https://mentonelsc.com/wp-content/uploads/2025/07/Screenshot-2025-07-23-135257.png
END:VEVENT
BEGIN:VEVENT
DTSTART;TZID=Australia/Melbourne:20250824T120000
DTEND;TZID=Australia/Melbourne:20250824T170000
DTSTAMP:20260424T201421
CREATED:20250821T021414Z
LAST-MODIFIED:20250821T021648Z
UID:12905-1756036800-1756054800@mentonelsc.com
SUMMARY:Live Music featuring Stella playing traditional Italian music
DESCRIPTION:Stella – a trio of young Italians from Melbourne playing traditional Italian music. \n$10 – pre purchased tickets – book tickets by clicking here\n$15 – tickets purchased at the door \nTables will be available\, however\, will be first in best dressed\, standing room available \nBar and Kitchen open from 12pm \nMusic starts from 12pm
URL:https://mentonelsc.com/event/live-music-featuring-stella-playing-traditional-italian-music/
ATTACH;FMTTYPE=image/png:https://mentonelsc.com/wp-content/uploads/2025/08/Stella-e1755742594628.png
END:VEVENT
BEGIN:VEVENT
DTSTART;TZID=Australia/Melbourne:20250829T170000
DTEND;TZID=Australia/Melbourne:20250829T233000
DTSTAMP:20260424T201421
CREATED:20250710T020836Z
LAST-MODIFIED:20250710T021306Z
UID:12656-1756486800-1756510200@mentonelsc.com
SUMMARY:Friday Dinner and Live Music on the Bay 5pm-11:30pm
DESCRIPTION:LIVE MUSIC WITH VIVID COVER BAND.\nClick for Live Music on the Bay information and booking link. \nDINNER BOOKING\nClick to book for dinner. \n 
URL:https://mentonelsc.com/event/friday-dinner-and-live-music-on-the-bay-5pm-1130pm-6/
ATTACH;FMTTYPE=image/jpeg:https://mentonelsc.com/wp-content/uploads/2025/07/VIVID-PROMO-BANNER-e1752113569870.jpg
END:VEVENT
BEGIN:VEVENT
DTSTART;TZID=Australia/Melbourne:20250831T130000
DTEND;TZID=Australia/Melbourne:20250831T150000
DTSTAMP:20260424T201421
CREATED:20250724T012525Z
LAST-MODIFIED:20250827T230213Z
UID:12737-1756645200-1756652400@mentonelsc.com
SUMMARY:EVENT CANCELLED - Mad Hatter Tea Party
DESCRIPTION:EVENT CANCELLED – Fall down the rabbit hole and join us for a magical Mad Hatter Tea Party at Mentone Life Saving Club! Step into a fantastical world filled with colourful characters\, quirky table settings\, and a deliciously curious menu created by Regnier Cakes. \nStep into Wonderland with whimsical buffet of sweet & savoury treats\, magical drinks\, and curious styling. It’s tea time – with a twist! \nPerfect for birthdays\, a unique girls’ day out\, or just a little escape from reality. Costumes and mad hats encouraged! \n✨ Don’t be late for this \nAdults from $65 per head\nChild from $30 per head \nAll food items are nut free with option for gluten free or vegan at an extra charge.
URL:https://mentonelsc.com/event/mad-hatter-tea-party/
ATTACH;FMTTYPE=image/jpeg:https://mentonelsc.com/wp-content/uploads/2025/06/Cancelled.jpg
END:VEVENT
END:VCALENDAR